BEGIN:VCALENDAR
VERSION:2.0
PRODID:-//Dorchester Trinity Club - ECPv6.15.20//NONSGML v1.0//EN
CALSCALE:GREGORIAN
METHOD:PUBLISH
X-WR-CALNAME:Dorchester Trinity Club
X-ORIGINAL-URL:https://www.dorchestertrinity.club
X-WR-CALDESC:Events for Dorchester Trinity Club
REFRESH-INTERVAL;VALUE=DURATION:PT1H
X-Robots-Tag:noindex
X-PUBLISHED-TTL:PT1H
BEGIN:VTIMEZONE
TZID:Europe/London
BEGIN:DAYLIGHT
TZOFFSETFROM:+0000
TZOFFSETTO:+0100
TZNAME:BST
DTSTART:20250330T010000
END:DAYLIGHT
BEGIN:STANDARD
TZOFFSETFROM:+0100
TZOFFSETTO:+0000
TZNAME:GMT
DTSTART:20251026T010000
END:STANDARD
BEGIN:DAYLIGHT
TZOFFSETFROM:+0000
TZOFFSETTO:+0100
TZNAME:BST
DTSTART:20260329T010000
END:DAYLIGHT
BEGIN:STANDARD
TZOFFSETFROM:+0100
TZOFFSETTO:+0000
TZNAME:GMT
DTSTART:20261025T010000
END:STANDARD
BEGIN:DAYLIGHT
TZOFFSETFROM:+0000
TZOFFSETTO:+0100
TZNAME:BST
DTSTART:20270328T010000
END:DAYLIGHT
BEGIN:STANDARD
TZOFFSETFROM:+0100
TZOFFSETTO:+0000
TZNAME:GMT
DTSTART:20271031T010000
END:STANDARD
END:VTIMEZONE
BEGIN:VEVENT
DTSTART;TZID=Europe/London:20260729T140000
DTEND;TZID=Europe/London:20260729T170000
DTSTAMP:20260423T152412
CREATED:20250319T164812Z
LAST-MODIFIED:20250320T162435Z
UID:10000073-1785333600-1785344400@www.dorchestertrinity.club
SUMMARY:Lunchtime Bingo
DESCRIPTION:Eyes down 2pm
URL:https://www.dorchestertrinity.club/event/lunchtime-bingo/2026-07-29/
LOCATION:Dorchester Trinity Club\, 38 Trinity Street\, Dorchester\, Dorset\, DT1 1TT\, United Kingdom
CATEGORIES:Club Events
ATTACH;FMTTYPE=image/jpeg:https://www.dorchestertrinity.club/wp-content/uploads/2025/03/DTC_Events-image_bingo.jpg
END:VEVENT
BEGIN:VEVENT
DTSTART;TZID=Europe/London:20260731T203000
DTEND;TZID=Europe/London:20260731T223000
DTSTAMP:20260423T152412
CREATED:20250319T165705Z
LAST-MODIFIED:20250331T092805Z
UID:10002837-1785529800-1785537000@www.dorchestertrinity.club
SUMMARY:Chase the Ace
DESCRIPTION:
URL:https://www.dorchestertrinity.club/event/thrift-club-meat-draw/2026-07-31/
LOCATION:Dorchester Trinity Club\, 38 Trinity Street\, Dorchester\, Dorset\, DT1 1TT\, United Kingdom
CATEGORIES:Club Events
ATTACH;FMTTYPE=image/jpeg:https://www.dorchestertrinity.club/wp-content/uploads/2025/03/DTC_Events-image_03-25_chase-the-ace.jpg
END:VEVENT
BEGIN:VEVENT
DTSTART;TZID=Europe/London:20260802T203000
DTEND;TZID=Europe/London:20260802T230000
DTSTAMP:20260423T152412
CREATED:20250319T170746Z
LAST-MODIFIED:20250331T092409Z
UID:10002441-1785702600-1785711600@www.dorchestertrinity.club
SUMMARY:Evening Bingo
DESCRIPTION:Eyes down 8.30pm
URL:https://www.dorchestertrinity.club/event/evening-bingo-2/2026-08-02/
LOCATION:Dorchester Trinity Club\, 38 Trinity Street\, Dorchester\, Dorset\, DT1 1TT\, United Kingdom
CATEGORIES:Club Events
ATTACH;FMTTYPE=image/jpeg:https://www.dorchestertrinity.club/wp-content/uploads/2025/03/DTC_Events-image_bingo.jpg
END:VEVENT
BEGIN:VEVENT
DTSTART;TZID=Europe/London:20260805T140000
DTEND;TZID=Europe/London:20260805T170000
DTSTAMP:20260423T152412
CREATED:20250319T164812Z
LAST-MODIFIED:20250320T162435Z
UID:10000074-1785938400-1785949200@www.dorchestertrinity.club
SUMMARY:Lunchtime Bingo
DESCRIPTION:Eyes down 2pm
URL:https://www.dorchestertrinity.club/event/lunchtime-bingo/2026-08-05/
LOCATION:Dorchester Trinity Club\, 38 Trinity Street\, Dorchester\, Dorset\, DT1 1TT\, United Kingdom
CATEGORIES:Club Events
ATTACH;FMTTYPE=image/jpeg:https://www.dorchestertrinity.club/wp-content/uploads/2025/03/DTC_Events-image_bingo.jpg
END:VEVENT
BEGIN:VEVENT
DTSTART;TZID=Europe/London:20260807T203000
DTEND;TZID=Europe/London:20260807T223000
DTSTAMP:20260423T152412
CREATED:20250319T165705Z
LAST-MODIFIED:20250331T092805Z
UID:10002838-1786134600-1786141800@www.dorchestertrinity.club
SUMMARY:Chase the Ace
DESCRIPTION:
URL:https://www.dorchestertrinity.club/event/thrift-club-meat-draw/2026-08-07/
LOCATION:Dorchester Trinity Club\, 38 Trinity Street\, Dorchester\, Dorset\, DT1 1TT\, United Kingdom
CATEGORIES:Club Events
ATTACH;FMTTYPE=image/jpeg:https://www.dorchestertrinity.club/wp-content/uploads/2025/03/DTC_Events-image_03-25_chase-the-ace.jpg
END:VEVENT
BEGIN:VEVENT
DTSTART;TZID=Europe/London:20260808T203000
DTEND;TZID=Europe/London:20260808T230000
DTSTAMP:20260423T152412
CREATED:20250407T093428Z
LAST-MODIFIED:20250407T093429Z
UID:10003063-1786221000-1786230000@www.dorchestertrinity.club
SUMMARY:Evening Bingo
DESCRIPTION:Eyes down 8.30pm
URL:https://www.dorchestertrinity.club/event/evening-bingo-3/2026-08-08/
LOCATION:Dorchester Trinity Club\, 38 Trinity Street\, Dorchester\, Dorset\, DT1 1TT\, United Kingdom
CATEGORIES:Club Events
ATTACH;FMTTYPE=image/jpeg:https://www.dorchestertrinity.club/wp-content/uploads/2025/03/DTC_Events-image_bingo.jpg
END:VEVENT
BEGIN:VEVENT
DTSTART;TZID=Europe/London:20260809T203000
DTEND;TZID=Europe/London:20260809T230000
DTSTAMP:20260423T152412
CREATED:20250319T170746Z
LAST-MODIFIED:20250331T092409Z
UID:10002442-1786307400-1786316400@www.dorchestertrinity.club
SUMMARY:Evening Bingo
DESCRIPTION:Eyes down 8.30pm
URL:https://www.dorchestertrinity.club/event/evening-bingo-2/2026-08-09/
LOCATION:Dorchester Trinity Club\, 38 Trinity Street\, Dorchester\, Dorset\, DT1 1TT\, United Kingdom
CATEGORIES:Club Events
ATTACH;FMTTYPE=image/jpeg:https://www.dorchestertrinity.club/wp-content/uploads/2025/03/DTC_Events-image_bingo.jpg
END:VEVENT
BEGIN:VEVENT
DTSTART;TZID=Europe/London:20260812T140000
DTEND;TZID=Europe/London:20260812T170000
DTSTAMP:20260423T152412
CREATED:20250319T164812Z
LAST-MODIFIED:20250320T162435Z
UID:10000075-1786543200-1786554000@www.dorchestertrinity.club
SUMMARY:Lunchtime Bingo
DESCRIPTION:Eyes down 2pm
URL:https://www.dorchestertrinity.club/event/lunchtime-bingo/2026-08-12/
LOCATION:Dorchester Trinity Club\, 38 Trinity Street\, Dorchester\, Dorset\, DT1 1TT\, United Kingdom
CATEGORIES:Club Events
ATTACH;FMTTYPE=image/jpeg:https://www.dorchestertrinity.club/wp-content/uploads/2025/03/DTC_Events-image_bingo.jpg
END:VEVENT
BEGIN:VEVENT
DTSTART;TZID=Europe/London:20260814T203000
DTEND;TZID=Europe/London:20260814T223000
DTSTAMP:20260423T152412
CREATED:20250319T165705Z
LAST-MODIFIED:20250331T092805Z
UID:10002839-1786739400-1786746600@www.dorchestertrinity.club
SUMMARY:Chase the Ace
DESCRIPTION:
URL:https://www.dorchestertrinity.club/event/thrift-club-meat-draw/2026-08-14/
LOCATION:Dorchester Trinity Club\, 38 Trinity Street\, Dorchester\, Dorset\, DT1 1TT\, United Kingdom
CATEGORIES:Club Events
ATTACH;FMTTYPE=image/jpeg:https://www.dorchestertrinity.club/wp-content/uploads/2025/03/DTC_Events-image_03-25_chase-the-ace.jpg
END:VEVENT
BEGIN:VEVENT
DTSTART;TZID=Europe/London:20260816T203000
DTEND;TZID=Europe/London:20260816T230000
DTSTAMP:20260423T152412
CREATED:20250319T170746Z
LAST-MODIFIED:20250331T092409Z
UID:10002443-1786912200-1786921200@www.dorchestertrinity.club
SUMMARY:Evening Bingo
DESCRIPTION:Eyes down 8.30pm
URL:https://www.dorchestertrinity.club/event/evening-bingo-2/2026-08-16/
LOCATION:Dorchester Trinity Club\, 38 Trinity Street\, Dorchester\, Dorset\, DT1 1TT\, United Kingdom
CATEGORIES:Club Events
ATTACH;FMTTYPE=image/jpeg:https://www.dorchestertrinity.club/wp-content/uploads/2025/03/DTC_Events-image_bingo.jpg
END:VEVENT
BEGIN:VEVENT
DTSTART;TZID=Europe/London:20260819T140000
DTEND;TZID=Europe/London:20260819T170000
DTSTAMP:20260423T152412
CREATED:20250319T164812Z
LAST-MODIFIED:20250320T162435Z
UID:10000076-1787148000-1787158800@www.dorchestertrinity.club
SUMMARY:Lunchtime Bingo
DESCRIPTION:Eyes down 2pm
URL:https://www.dorchestertrinity.club/event/lunchtime-bingo/2026-08-19/
LOCATION:Dorchester Trinity Club\, 38 Trinity Street\, Dorchester\, Dorset\, DT1 1TT\, United Kingdom
CATEGORIES:Club Events
ATTACH;FMTTYPE=image/jpeg:https://www.dorchestertrinity.club/wp-content/uploads/2025/03/DTC_Events-image_bingo.jpg
END:VEVENT
BEGIN:VEVENT
DTSTART;TZID=Europe/London:20260821T203000
DTEND;TZID=Europe/London:20260821T223000
DTSTAMP:20260423T152412
CREATED:20250319T165705Z
LAST-MODIFIED:20250331T092805Z
UID:10002840-1787344200-1787351400@www.dorchestertrinity.club
SUMMARY:Chase the Ace
DESCRIPTION:
URL:https://www.dorchestertrinity.club/event/thrift-club-meat-draw/2026-08-21/
LOCATION:Dorchester Trinity Club\, 38 Trinity Street\, Dorchester\, Dorset\, DT1 1TT\, United Kingdom
CATEGORIES:Club Events
ATTACH;FMTTYPE=image/jpeg:https://www.dorchestertrinity.club/wp-content/uploads/2025/03/DTC_Events-image_03-25_chase-the-ace.jpg
END:VEVENT
BEGIN:VEVENT
DTSTART;TZID=Europe/London:20260822T203000
DTEND;TZID=Europe/London:20260822T230000
DTSTAMP:20260423T152412
CREATED:20250407T093428Z
LAST-MODIFIED:20250407T093429Z
UID:10003064-1787430600-1787439600@www.dorchestertrinity.club
SUMMARY:Evening Bingo
DESCRIPTION:Eyes down 8.30pm
URL:https://www.dorchestertrinity.club/event/evening-bingo-3/2026-08-22/
LOCATION:Dorchester Trinity Club\, 38 Trinity Street\, Dorchester\, Dorset\, DT1 1TT\, United Kingdom
CATEGORIES:Club Events
ATTACH;FMTTYPE=image/jpeg:https://www.dorchestertrinity.club/wp-content/uploads/2025/03/DTC_Events-image_bingo.jpg
END:VEVENT
BEGIN:VEVENT
DTSTART;TZID=Europe/London:20260823T203000
DTEND;TZID=Europe/London:20260823T230000
DTSTAMP:20260423T152412
CREATED:20250319T170746Z
LAST-MODIFIED:20250331T092409Z
UID:10002444-1787517000-1787526000@www.dorchestertrinity.club
SUMMARY:Evening Bingo
DESCRIPTION:Eyes down 8.30pm
URL:https://www.dorchestertrinity.club/event/evening-bingo-2/2026-08-23/
LOCATION:Dorchester Trinity Club\, 38 Trinity Street\, Dorchester\, Dorset\, DT1 1TT\, United Kingdom
CATEGORIES:Club Events
ATTACH;FMTTYPE=image/jpeg:https://www.dorchestertrinity.club/wp-content/uploads/2025/03/DTC_Events-image_bingo.jpg
END:VEVENT
BEGIN:VEVENT
DTSTART;TZID=Europe/London:20260826T140000
DTEND;TZID=Europe/London:20260826T170000
DTSTAMP:20260423T152412
CREATED:20250319T164812Z
LAST-MODIFIED:20250320T162435Z
UID:10000077-1787752800-1787763600@www.dorchestertrinity.club
SUMMARY:Lunchtime Bingo
DESCRIPTION:Eyes down 2pm
URL:https://www.dorchestertrinity.club/event/lunchtime-bingo/2026-08-26/
LOCATION:Dorchester Trinity Club\, 38 Trinity Street\, Dorchester\, Dorset\, DT1 1TT\, United Kingdom
CATEGORIES:Club Events
ATTACH;FMTTYPE=image/jpeg:https://www.dorchestertrinity.club/wp-content/uploads/2025/03/DTC_Events-image_bingo.jpg
END:VEVENT
BEGIN:VEVENT
DTSTART;TZID=Europe/London:20260828T203000
DTEND;TZID=Europe/London:20260828T223000
DTSTAMP:20260423T152412
CREATED:20250319T165705Z
LAST-MODIFIED:20250331T092805Z
UID:10002841-1787949000-1787956200@www.dorchestertrinity.club
SUMMARY:Chase the Ace
DESCRIPTION:
URL:https://www.dorchestertrinity.club/event/thrift-club-meat-draw/2026-08-28/
LOCATION:Dorchester Trinity Club\, 38 Trinity Street\, Dorchester\, Dorset\, DT1 1TT\, United Kingdom
CATEGORIES:Club Events
ATTACH;FMTTYPE=image/jpeg:https://www.dorchestertrinity.club/wp-content/uploads/2025/03/DTC_Events-image_03-25_chase-the-ace.jpg
END:VEVENT
BEGIN:VEVENT
DTSTART;TZID=Europe/London:20260830T203000
DTEND;TZID=Europe/London:20260830T230000
DTSTAMP:20260423T152412
CREATED:20250319T170746Z
LAST-MODIFIED:20250331T092409Z
UID:10002445-1788121800-1788130800@www.dorchestertrinity.club
SUMMARY:Evening Bingo
DESCRIPTION:Eyes down 8.30pm
URL:https://www.dorchestertrinity.club/event/evening-bingo-2/2026-08-30/
LOCATION:Dorchester Trinity Club\, 38 Trinity Street\, Dorchester\, Dorset\, DT1 1TT\, United Kingdom
CATEGORIES:Club Events
ATTACH;FMTTYPE=image/jpeg:https://www.dorchestertrinity.club/wp-content/uploads/2025/03/DTC_Events-image_bingo.jpg
END:VEVENT
BEGIN:VEVENT
DTSTART;TZID=Europe/London:20260902T140000
DTEND;TZID=Europe/London:20260902T170000
DTSTAMP:20260423T152412
CREATED:20250319T164812Z
LAST-MODIFIED:20250320T162435Z
UID:10000078-1788357600-1788368400@www.dorchestertrinity.club
SUMMARY:Lunchtime Bingo
DESCRIPTION:Eyes down 2pm
URL:https://www.dorchestertrinity.club/event/lunchtime-bingo/2026-09-02/
LOCATION:Dorchester Trinity Club\, 38 Trinity Street\, Dorchester\, Dorset\, DT1 1TT\, United Kingdom
CATEGORIES:Club Events
ATTACH;FMTTYPE=image/jpeg:https://www.dorchestertrinity.club/wp-content/uploads/2025/03/DTC_Events-image_bingo.jpg
END:VEVENT
BEGIN:VEVENT
DTSTART;TZID=Europe/London:20260904T203000
DTEND;TZID=Europe/London:20260904T223000
DTSTAMP:20260423T152412
CREATED:20250319T165705Z
LAST-MODIFIED:20250331T092805Z
UID:10002842-1788553800-1788561000@www.dorchestertrinity.club
SUMMARY:Chase the Ace
DESCRIPTION:
URL:https://www.dorchestertrinity.club/event/thrift-club-meat-draw/2026-09-04/
LOCATION:Dorchester Trinity Club\, 38 Trinity Street\, Dorchester\, Dorset\, DT1 1TT\, United Kingdom
CATEGORIES:Club Events
ATTACH;FMTTYPE=image/jpeg:https://www.dorchestertrinity.club/wp-content/uploads/2025/03/DTC_Events-image_03-25_chase-the-ace.jpg
END:VEVENT
BEGIN:VEVENT
DTSTART;TZID=Europe/London:20260905T203000
DTEND;TZID=Europe/London:20260905T230000
DTSTAMP:20260423T152412
CREATED:20250407T093428Z
LAST-MODIFIED:20250407T093429Z
UID:10003065-1788640200-1788649200@www.dorchestertrinity.club
SUMMARY:Evening Bingo
DESCRIPTION:Eyes down 8.30pm
URL:https://www.dorchestertrinity.club/event/evening-bingo-3/2026-09-05/
LOCATION:Dorchester Trinity Club\, 38 Trinity Street\, Dorchester\, Dorset\, DT1 1TT\, United Kingdom
CATEGORIES:Club Events
ATTACH;FMTTYPE=image/jpeg:https://www.dorchestertrinity.club/wp-content/uploads/2025/03/DTC_Events-image_bingo.jpg
END:VEVENT
BEGIN:VEVENT
DTSTART;TZID=Europe/London:20260906T203000
DTEND;TZID=Europe/London:20260906T230000
DTSTAMP:20260423T152412
CREATED:20250319T170746Z
LAST-MODIFIED:20250331T092409Z
UID:10002446-1788726600-1788735600@www.dorchestertrinity.club
SUMMARY:Evening Bingo
DESCRIPTION:Eyes down 8.30pm
URL:https://www.dorchestertrinity.club/event/evening-bingo-2/2026-09-06/
LOCATION:Dorchester Trinity Club\, 38 Trinity Street\, Dorchester\, Dorset\, DT1 1TT\, United Kingdom
CATEGORIES:Club Events
ATTACH;FMTTYPE=image/jpeg:https://www.dorchestertrinity.club/wp-content/uploads/2025/03/DTC_Events-image_bingo.jpg
END:VEVENT
BEGIN:VEVENT
DTSTART;TZID=Europe/London:20260909T140000
DTEND;TZID=Europe/London:20260909T170000
DTSTAMP:20260423T152412
CREATED:20250319T164812Z
LAST-MODIFIED:20250320T162435Z
UID:10000079-1788962400-1788973200@www.dorchestertrinity.club
SUMMARY:Lunchtime Bingo
DESCRIPTION:Eyes down 2pm
URL:https://www.dorchestertrinity.club/event/lunchtime-bingo/2026-09-09/
LOCATION:Dorchester Trinity Club\, 38 Trinity Street\, Dorchester\, Dorset\, DT1 1TT\, United Kingdom
CATEGORIES:Club Events
ATTACH;FMTTYPE=image/jpeg:https://www.dorchestertrinity.club/wp-content/uploads/2025/03/DTC_Events-image_bingo.jpg
END:VEVENT
BEGIN:VEVENT
DTSTART;TZID=Europe/London:20260911T203000
DTEND;TZID=Europe/London:20260911T223000
DTSTAMP:20260423T152412
CREATED:20250319T165705Z
LAST-MODIFIED:20250331T092805Z
UID:10002843-1789158600-1789165800@www.dorchestertrinity.club
SUMMARY:Chase the Ace
DESCRIPTION:
URL:https://www.dorchestertrinity.club/event/thrift-club-meat-draw/2026-09-11/
LOCATION:Dorchester Trinity Club\, 38 Trinity Street\, Dorchester\, Dorset\, DT1 1TT\, United Kingdom
CATEGORIES:Club Events
ATTACH;FMTTYPE=image/jpeg:https://www.dorchestertrinity.club/wp-content/uploads/2025/03/DTC_Events-image_03-25_chase-the-ace.jpg
END:VEVENT
BEGIN:VEVENT
DTSTART;TZID=Europe/London:20260913T203000
DTEND;TZID=Europe/London:20260913T230000
DTSTAMP:20260423T152412
CREATED:20250319T170746Z
LAST-MODIFIED:20250331T092409Z
UID:10002447-1789331400-1789340400@www.dorchestertrinity.club
SUMMARY:Evening Bingo
DESCRIPTION:Eyes down 8.30pm
URL:https://www.dorchestertrinity.club/event/evening-bingo-2/2026-09-13/
LOCATION:Dorchester Trinity Club\, 38 Trinity Street\, Dorchester\, Dorset\, DT1 1TT\, United Kingdom
CATEGORIES:Club Events
ATTACH;FMTTYPE=image/jpeg:https://www.dorchestertrinity.club/wp-content/uploads/2025/03/DTC_Events-image_bingo.jpg
END:VEVENT
BEGIN:VEVENT
DTSTART;TZID=Europe/London:20260916T140000
DTEND;TZID=Europe/London:20260916T170000
DTSTAMP:20260423T152412
CREATED:20250319T164812Z
LAST-MODIFIED:20250320T162435Z
UID:10000080-1789567200-1789578000@www.dorchestertrinity.club
SUMMARY:Lunchtime Bingo
DESCRIPTION:Eyes down 2pm
URL:https://www.dorchestertrinity.club/event/lunchtime-bingo/2026-09-16/
LOCATION:Dorchester Trinity Club\, 38 Trinity Street\, Dorchester\, Dorset\, DT1 1TT\, United Kingdom
CATEGORIES:Club Events
ATTACH;FMTTYPE=image/jpeg:https://www.dorchestertrinity.club/wp-content/uploads/2025/03/DTC_Events-image_bingo.jpg
END:VEVENT
BEGIN:VEVENT
DTSTART;TZID=Europe/London:20260918T203000
DTEND;TZID=Europe/London:20260918T223000
DTSTAMP:20260423T152412
CREATED:20250319T165705Z
LAST-MODIFIED:20250331T092805Z
UID:10002844-1789763400-1789770600@www.dorchestertrinity.club
SUMMARY:Chase the Ace
DESCRIPTION:
URL:https://www.dorchestertrinity.club/event/thrift-club-meat-draw/2026-09-18/
LOCATION:Dorchester Trinity Club\, 38 Trinity Street\, Dorchester\, Dorset\, DT1 1TT\, United Kingdom
CATEGORIES:Club Events
ATTACH;FMTTYPE=image/jpeg:https://www.dorchestertrinity.club/wp-content/uploads/2025/03/DTC_Events-image_03-25_chase-the-ace.jpg
END:VEVENT
BEGIN:VEVENT
DTSTART;TZID=Europe/London:20260919T203000
DTEND;TZID=Europe/London:20260919T230000
DTSTAMP:20260423T152412
CREATED:20250407T093428Z
LAST-MODIFIED:20250407T093429Z
UID:10003066-1789849800-1789858800@www.dorchestertrinity.club
SUMMARY:Evening Bingo
DESCRIPTION:Eyes down 8.30pm
URL:https://www.dorchestertrinity.club/event/evening-bingo-3/2026-09-19/
LOCATION:Dorchester Trinity Club\, 38 Trinity Street\, Dorchester\, Dorset\, DT1 1TT\, United Kingdom
CATEGORIES:Club Events
ATTACH;FMTTYPE=image/jpeg:https://www.dorchestertrinity.club/wp-content/uploads/2025/03/DTC_Events-image_bingo.jpg
END:VEVENT
BEGIN:VEVENT
DTSTART;TZID=Europe/London:20260920T203000
DTEND;TZID=Europe/London:20260920T230000
DTSTAMP:20260423T152412
CREATED:20250319T170746Z
LAST-MODIFIED:20250331T092409Z
UID:10002448-1789936200-1789945200@www.dorchestertrinity.club
SUMMARY:Evening Bingo
DESCRIPTION:Eyes down 8.30pm
URL:https://www.dorchestertrinity.club/event/evening-bingo-2/2026-09-20/
LOCATION:Dorchester Trinity Club\, 38 Trinity Street\, Dorchester\, Dorset\, DT1 1TT\, United Kingdom
CATEGORIES:Club Events
ATTACH;FMTTYPE=image/jpeg:https://www.dorchestertrinity.club/wp-content/uploads/2025/03/DTC_Events-image_bingo.jpg
END:VEVENT
BEGIN:VEVENT
DTSTART;TZID=Europe/London:20260923T140000
DTEND;TZID=Europe/London:20260923T170000
DTSTAMP:20260423T152412
CREATED:20250319T164812Z
LAST-MODIFIED:20250320T162435Z
UID:10000081-1790172000-1790182800@www.dorchestertrinity.club
SUMMARY:Lunchtime Bingo
DESCRIPTION:Eyes down 2pm
URL:https://www.dorchestertrinity.club/event/lunchtime-bingo/2026-09-23/
LOCATION:Dorchester Trinity Club\, 38 Trinity Street\, Dorchester\, Dorset\, DT1 1TT\, United Kingdom
CATEGORIES:Club Events
ATTACH;FMTTYPE=image/jpeg:https://www.dorchestertrinity.club/wp-content/uploads/2025/03/DTC_Events-image_bingo.jpg
END:VEVENT
BEGIN:VEVENT
DTSTART;TZID=Europe/London:20260925T203000
DTEND;TZID=Europe/London:20260925T223000
DTSTAMP:20260423T152412
CREATED:20250319T165705Z
LAST-MODIFIED:20250331T092805Z
UID:10002845-1790368200-1790375400@www.dorchestertrinity.club
SUMMARY:Chase the Ace
DESCRIPTION:
URL:https://www.dorchestertrinity.club/event/thrift-club-meat-draw/2026-09-25/
LOCATION:Dorchester Trinity Club\, 38 Trinity Street\, Dorchester\, Dorset\, DT1 1TT\, United Kingdom
CATEGORIES:Club Events
ATTACH;FMTTYPE=image/jpeg:https://www.dorchestertrinity.club/wp-content/uploads/2025/03/DTC_Events-image_03-25_chase-the-ace.jpg
END:VEVENT
END:VCALENDAR