BEGIN:VCALENDAR
VERSION:2.0
PRODID:-//Dorchester Trinity Club - ECPv6.15.20//NONSGML v1.0//EN
CALSCALE:GREGORIAN
METHOD:PUBLISH
X-WR-CALNAME:Dorchester Trinity Club
X-ORIGINAL-URL:https://www.dorchestertrinity.club
X-WR-CALDESC:Events for Dorchester Trinity Club
REFRESH-INTERVAL;VALUE=DURATION:PT1H
X-Robots-Tag:noindex
X-PUBLISHED-TTL:PT1H
BEGIN:VTIMEZONE
TZID:Europe/London
BEGIN:DAYLIGHT
TZOFFSETFROM:+0000
TZOFFSETTO:+0100
TZNAME:BST
DTSTART:20240331T010000
END:DAYLIGHT
BEGIN:STANDARD
TZOFFSETFROM:+0100
TZOFFSETTO:+0000
TZNAME:GMT
DTSTART:20241027T010000
END:STANDARD
BEGIN:DAYLIGHT
TZOFFSETFROM:+0000
TZOFFSETTO:+0100
TZNAME:BST
DTSTART:20250330T010000
END:DAYLIGHT
BEGIN:STANDARD
TZOFFSETFROM:+0100
TZOFFSETTO:+0000
TZNAME:GMT
DTSTART:20251026T010000
END:STANDARD
BEGIN:DAYLIGHT
TZOFFSETFROM:+0000
TZOFFSETTO:+0100
TZNAME:BST
DTSTART:20260329T010000
END:DAYLIGHT
BEGIN:STANDARD
TZOFFSETFROM:+0100
TZOFFSETTO:+0000
TZNAME:GMT
DTSTART:20261025T010000
END:STANDARD
BEGIN:DAYLIGHT
TZOFFSETFROM:+0000
TZOFFSETTO:+0100
TZNAME:BST
DTSTART:20270328T010000
END:DAYLIGHT
BEGIN:STANDARD
TZOFFSETFROM:+0100
TZOFFSETTO:+0000
TZNAME:GMT
DTSTART:20271031T010000
END:STANDARD
END:VTIMEZONE
BEGIN:VEVENT
DTSTART;TZID=Europe/London:20260206T203000
DTEND;TZID=Europe/London:20260206T223000
DTSTAMP:20260419T224525
CREATED:20250319T165705Z
LAST-MODIFIED:20250331T092805Z
UID:10002812-1770409800-1770417000@www.dorchestertrinity.club
SUMMARY:Chase the Ace
DESCRIPTION:
URL:https://www.dorchestertrinity.club/event/thrift-club-meat-draw/2026-02-06/
LOCATION:Dorchester Trinity Club\, 38 Trinity Street\, Dorchester\, Dorset\, DT1 1TT\, United Kingdom
CATEGORIES:Club Events
ATTACH;FMTTYPE=image/jpeg:https://www.dorchestertrinity.club/wp-content/uploads/2025/03/DTC_Events-image_03-25_chase-the-ace.jpg
END:VEVENT
BEGIN:VEVENT
DTSTART;TZID=Europe/London:20260204T140000
DTEND;TZID=Europe/London:20260204T170000
DTSTAMP:20260419T224525
CREATED:20250319T164812Z
LAST-MODIFIED:20250320T162435Z
UID:10000048-1770213600-1770224400@www.dorchestertrinity.club
SUMMARY:Lunchtime Bingo
DESCRIPTION:Eyes down 2pm
URL:https://www.dorchestertrinity.club/event/lunchtime-bingo/2026-02-04/
LOCATION:Dorchester Trinity Club\, 38 Trinity Street\, Dorchester\, Dorset\, DT1 1TT\, United Kingdom
CATEGORIES:Club Events
ATTACH;FMTTYPE=image/jpeg:https://www.dorchestertrinity.club/wp-content/uploads/2025/03/DTC_Events-image_bingo.jpg
END:VEVENT
BEGIN:VEVENT
DTSTART;TZID=Europe/London:20260201T203000
DTEND;TZID=Europe/London:20260201T230000
DTSTAMP:20260419T224525
CREATED:20250319T170746Z
LAST-MODIFIED:20250331T092409Z
UID:10002415-1769977800-1769986800@www.dorchestertrinity.club
SUMMARY:Evening Bingo
DESCRIPTION:Eyes down 8.30pm
URL:https://www.dorchestertrinity.club/event/evening-bingo-2/2026-02-01/
LOCATION:Dorchester Trinity Club\, 38 Trinity Street\, Dorchester\, Dorset\, DT1 1TT\, United Kingdom
CATEGORIES:Club Events
ATTACH;FMTTYPE=image/jpeg:https://www.dorchestertrinity.club/wp-content/uploads/2025/03/DTC_Events-image_bingo.jpg
END:VEVENT
BEGIN:VEVENT
DTSTART;TZID=Europe/London:20260130T203000
DTEND;TZID=Europe/London:20260130T223000
DTSTAMP:20260419T224525
CREATED:20250319T165705Z
LAST-MODIFIED:20250331T092805Z
UID:10002811-1769805000-1769812200@www.dorchestertrinity.club
SUMMARY:Chase the Ace
DESCRIPTION:
URL:https://www.dorchestertrinity.club/event/thrift-club-meat-draw/2026-01-30/
LOCATION:Dorchester Trinity Club\, 38 Trinity Street\, Dorchester\, Dorset\, DT1 1TT\, United Kingdom
CATEGORIES:Club Events
ATTACH;FMTTYPE=image/jpeg:https://www.dorchestertrinity.club/wp-content/uploads/2025/03/DTC_Events-image_03-25_chase-the-ace.jpg
END:VEVENT
BEGIN:VEVENT
DTSTART;TZID=Europe/London:20260128T140000
DTEND;TZID=Europe/London:20260128T170000
DTSTAMP:20260419T224525
CREATED:20250319T164812Z
LAST-MODIFIED:20250320T162435Z
UID:10000047-1769608800-1769619600@www.dorchestertrinity.club
SUMMARY:Lunchtime Bingo
DESCRIPTION:Eyes down 2pm
URL:https://www.dorchestertrinity.club/event/lunchtime-bingo/2026-01-28/
LOCATION:Dorchester Trinity Club\, 38 Trinity Street\, Dorchester\, Dorset\, DT1 1TT\, United Kingdom
CATEGORIES:Club Events
ATTACH;FMTTYPE=image/jpeg:https://www.dorchestertrinity.club/wp-content/uploads/2025/03/DTC_Events-image_bingo.jpg
END:VEVENT
BEGIN:VEVENT
DTSTART;TZID=Europe/London:20260125T203000
DTEND;TZID=Europe/London:20260125T230000
DTSTAMP:20260419T224525
CREATED:20250319T170746Z
LAST-MODIFIED:20250331T092409Z
UID:10002414-1769373000-1769382000@www.dorchestertrinity.club
SUMMARY:Evening Bingo
DESCRIPTION:Eyes down 8.30pm
URL:https://www.dorchestertrinity.club/event/evening-bingo-2/2026-01-25/
LOCATION:Dorchester Trinity Club\, 38 Trinity Street\, Dorchester\, Dorset\, DT1 1TT\, United Kingdom
CATEGORIES:Club Events
ATTACH;FMTTYPE=image/jpeg:https://www.dorchestertrinity.club/wp-content/uploads/2025/03/DTC_Events-image_bingo.jpg
END:VEVENT
BEGIN:VEVENT
DTSTART;TZID=Europe/London:20260124T203000
DTEND;TZID=Europe/London:20260124T230000
DTSTAMP:20260419T224525
CREATED:20250407T093428Z
LAST-MODIFIED:20250407T093429Z
UID:10003049-1769286600-1769295600@www.dorchestertrinity.club
SUMMARY:Evening Bingo
DESCRIPTION:Eyes down 8.30pm
URL:https://www.dorchestertrinity.club/event/evening-bingo-3/2026-01-24/
LOCATION:Dorchester Trinity Club\, 38 Trinity Street\, Dorchester\, Dorset\, DT1 1TT\, United Kingdom
CATEGORIES:Club Events
ATTACH;FMTTYPE=image/jpeg:https://www.dorchestertrinity.club/wp-content/uploads/2025/03/DTC_Events-image_bingo.jpg
END:VEVENT
BEGIN:VEVENT
DTSTART;TZID=Europe/London:20260123T203000
DTEND;TZID=Europe/London:20260123T223000
DTSTAMP:20260419T224525
CREATED:20250319T165705Z
LAST-MODIFIED:20250331T092805Z
UID:10002810-1769200200-1769207400@www.dorchestertrinity.club
SUMMARY:Chase the Ace
DESCRIPTION:
URL:https://www.dorchestertrinity.club/event/thrift-club-meat-draw/2026-01-23/
LOCATION:Dorchester Trinity Club\, 38 Trinity Street\, Dorchester\, Dorset\, DT1 1TT\, United Kingdom
CATEGORIES:Club Events
ATTACH;FMTTYPE=image/jpeg:https://www.dorchestertrinity.club/wp-content/uploads/2025/03/DTC_Events-image_03-25_chase-the-ace.jpg
END:VEVENT
BEGIN:VEVENT
DTSTART;TZID=Europe/London:20260121T140000
DTEND;TZID=Europe/London:20260121T170000
DTSTAMP:20260419T224525
CREATED:20250319T164812Z
LAST-MODIFIED:20250320T162435Z
UID:10000046-1769004000-1769014800@www.dorchestertrinity.club
SUMMARY:Lunchtime Bingo
DESCRIPTION:Eyes down 2pm
URL:https://www.dorchestertrinity.club/event/lunchtime-bingo/2026-01-21/
LOCATION:Dorchester Trinity Club\, 38 Trinity Street\, Dorchester\, Dorset\, DT1 1TT\, United Kingdom
CATEGORIES:Club Events
ATTACH;FMTTYPE=image/jpeg:https://www.dorchestertrinity.club/wp-content/uploads/2025/03/DTC_Events-image_bingo.jpg
END:VEVENT
BEGIN:VEVENT
DTSTART;TZID=Europe/London:20260118T203000
DTEND;TZID=Europe/London:20260118T230000
DTSTAMP:20260419T224525
CREATED:20250319T170746Z
LAST-MODIFIED:20250331T092409Z
UID:10002413-1768768200-1768777200@www.dorchestertrinity.club
SUMMARY:Evening Bingo
DESCRIPTION:Eyes down 8.30pm
URL:https://www.dorchestertrinity.club/event/evening-bingo-2/2026-01-18/
LOCATION:Dorchester Trinity Club\, 38 Trinity Street\, Dorchester\, Dorset\, DT1 1TT\, United Kingdom
CATEGORIES:Club Events
ATTACH;FMTTYPE=image/jpeg:https://www.dorchestertrinity.club/wp-content/uploads/2025/03/DTC_Events-image_bingo.jpg
END:VEVENT
BEGIN:VEVENT
DTSTART;TZID=Europe/London:20260116T203000
DTEND;TZID=Europe/London:20260116T223000
DTSTAMP:20260419T224525
CREATED:20250319T165705Z
LAST-MODIFIED:20250331T092805Z
UID:10002809-1768595400-1768602600@www.dorchestertrinity.club
SUMMARY:Chase the Ace
DESCRIPTION:
URL:https://www.dorchestertrinity.club/event/thrift-club-meat-draw/2026-01-16/
LOCATION:Dorchester Trinity Club\, 38 Trinity Street\, Dorchester\, Dorset\, DT1 1TT\, United Kingdom
CATEGORIES:Club Events
ATTACH;FMTTYPE=image/jpeg:https://www.dorchestertrinity.club/wp-content/uploads/2025/03/DTC_Events-image_03-25_chase-the-ace.jpg
END:VEVENT
BEGIN:VEVENT
DTSTART;TZID=Europe/London:20260114T140000
DTEND;TZID=Europe/London:20260114T170000
DTSTAMP:20260419T224525
CREATED:20250319T164812Z
LAST-MODIFIED:20250320T162435Z
UID:10000045-1768399200-1768410000@www.dorchestertrinity.club
SUMMARY:Lunchtime Bingo
DESCRIPTION:Eyes down 2pm
URL:https://www.dorchestertrinity.club/event/lunchtime-bingo/2026-01-14/
LOCATION:Dorchester Trinity Club\, 38 Trinity Street\, Dorchester\, Dorset\, DT1 1TT\, United Kingdom
CATEGORIES:Club Events
ATTACH;FMTTYPE=image/jpeg:https://www.dorchestertrinity.club/wp-content/uploads/2025/03/DTC_Events-image_bingo.jpg
END:VEVENT
BEGIN:VEVENT
DTSTART;TZID=Europe/London:20260111T203000
DTEND;TZID=Europe/London:20260111T230000
DTSTAMP:20260419T224525
CREATED:20250319T170746Z
LAST-MODIFIED:20250331T092409Z
UID:10002412-1768163400-1768172400@www.dorchestertrinity.club
SUMMARY:Evening Bingo
DESCRIPTION:Eyes down 8.30pm
URL:https://www.dorchestertrinity.club/event/evening-bingo-2/2026-01-11/
LOCATION:Dorchester Trinity Club\, 38 Trinity Street\, Dorchester\, Dorset\, DT1 1TT\, United Kingdom
CATEGORIES:Club Events
ATTACH;FMTTYPE=image/jpeg:https://www.dorchestertrinity.club/wp-content/uploads/2025/03/DTC_Events-image_bingo.jpg
END:VEVENT
BEGIN:VEVENT
DTSTART;TZID=Europe/London:20260110T203000
DTEND;TZID=Europe/London:20260110T230000
DTSTAMP:20260419T224525
CREATED:20250407T093428Z
LAST-MODIFIED:20250407T093429Z
UID:10003048-1768077000-1768086000@www.dorchestertrinity.club
SUMMARY:Evening Bingo
DESCRIPTION:Eyes down 8.30pm
URL:https://www.dorchestertrinity.club/event/evening-bingo-3/2026-01-10/
LOCATION:Dorchester Trinity Club\, 38 Trinity Street\, Dorchester\, Dorset\, DT1 1TT\, United Kingdom
CATEGORIES:Club Events
ATTACH;FMTTYPE=image/jpeg:https://www.dorchestertrinity.club/wp-content/uploads/2025/03/DTC_Events-image_bingo.jpg
END:VEVENT
BEGIN:VEVENT
DTSTART;TZID=Europe/London:20260109T203000
DTEND;TZID=Europe/London:20260109T223000
DTSTAMP:20260419T224525
CREATED:20250319T165705Z
LAST-MODIFIED:20250331T092805Z
UID:10002808-1767990600-1767997800@www.dorchestertrinity.club
SUMMARY:Chase the Ace
DESCRIPTION:
URL:https://www.dorchestertrinity.club/event/thrift-club-meat-draw/2026-01-09/
LOCATION:Dorchester Trinity Club\, 38 Trinity Street\, Dorchester\, Dorset\, DT1 1TT\, United Kingdom
CATEGORIES:Club Events
ATTACH;FMTTYPE=image/jpeg:https://www.dorchestertrinity.club/wp-content/uploads/2025/03/DTC_Events-image_03-25_chase-the-ace.jpg
END:VEVENT
BEGIN:VEVENT
DTSTART;TZID=Europe/London:20260107T140000
DTEND;TZID=Europe/London:20260107T170000
DTSTAMP:20260419T224525
CREATED:20250319T164812Z
LAST-MODIFIED:20250320T162435Z
UID:10000044-1767794400-1767805200@www.dorchestertrinity.club
SUMMARY:Lunchtime Bingo
DESCRIPTION:Eyes down 2pm
URL:https://www.dorchestertrinity.club/event/lunchtime-bingo/2026-01-07/
LOCATION:Dorchester Trinity Club\, 38 Trinity Street\, Dorchester\, Dorset\, DT1 1TT\, United Kingdom
CATEGORIES:Club Events
ATTACH;FMTTYPE=image/jpeg:https://www.dorchestertrinity.club/wp-content/uploads/2025/03/DTC_Events-image_bingo.jpg
END:VEVENT
BEGIN:VEVENT
DTSTART;TZID=Europe/London:20260104T203000
DTEND;TZID=Europe/London:20260104T230000
DTSTAMP:20260419T224525
CREATED:20250319T170746Z
LAST-MODIFIED:20250331T092409Z
UID:10002411-1767558600-1767567600@www.dorchestertrinity.club
SUMMARY:Evening Bingo
DESCRIPTION:Eyes down 8.30pm
URL:https://www.dorchestertrinity.club/event/evening-bingo-2/2026-01-04/
LOCATION:Dorchester Trinity Club\, 38 Trinity Street\, Dorchester\, Dorset\, DT1 1TT\, United Kingdom
CATEGORIES:Club Events
ATTACH;FMTTYPE=image/jpeg:https://www.dorchestertrinity.club/wp-content/uploads/2025/03/DTC_Events-image_bingo.jpg
END:VEVENT
BEGIN:VEVENT
DTSTART;TZID=Europe/London:20260102T203000
DTEND;TZID=Europe/London:20260102T223000
DTSTAMP:20260419T224525
CREATED:20250319T165705Z
LAST-MODIFIED:20250331T092805Z
UID:10002807-1767385800-1767393000@www.dorchestertrinity.club
SUMMARY:Chase the Ace
DESCRIPTION:
URL:https://www.dorchestertrinity.club/event/thrift-club-meat-draw/2026-01-02/
LOCATION:Dorchester Trinity Club\, 38 Trinity Street\, Dorchester\, Dorset\, DT1 1TT\, United Kingdom
CATEGORIES:Club Events
ATTACH;FMTTYPE=image/jpeg:https://www.dorchestertrinity.club/wp-content/uploads/2025/03/DTC_Events-image_03-25_chase-the-ace.jpg
END:VEVENT
BEGIN:VEVENT
DTSTART;TZID=Europe/London:20251231T190000
DTEND;TZID=Europe/London:20260101T010000
DTSTAMP:20260419T224525
CREATED:20250813T071735Z
LAST-MODIFIED:20250813T071735Z
UID:10003162-1767207600-1767229200@www.dorchestertrinity.club
SUMMARY:New Years Eve Celebration
DESCRIPTION:
URL:https://www.dorchestertrinity.club/event/new-years-eve-celebration/
LOCATION:Dorchester Trinity Club\, 38 Trinity Street\, Dorchester\, Dorset\, DT1 1TT\, United Kingdom
CATEGORIES:Club Events
ATTACH;FMTTYPE=image/jpeg:https://www.dorchestertrinity.club/wp-content/uploads/2025/08/New-Years-Eve-2025.jpg
END:VEVENT
BEGIN:VEVENT
DTSTART;TZID=Europe/London:20251231T140000
DTEND;TZID=Europe/London:20251231T170000
DTSTAMP:20260419T224525
CREATED:20250319T164812Z
LAST-MODIFIED:20250320T162435Z
UID:10000043-1767189600-1767200400@www.dorchestertrinity.club
SUMMARY:Lunchtime Bingo
DESCRIPTION:Eyes down 2pm
URL:https://www.dorchestertrinity.club/event/lunchtime-bingo/2025-12-31/
LOCATION:Dorchester Trinity Club\, 38 Trinity Street\, Dorchester\, Dorset\, DT1 1TT\, United Kingdom
CATEGORIES:Club Events
ATTACH;FMTTYPE=image/jpeg:https://www.dorchestertrinity.club/wp-content/uploads/2025/03/DTC_Events-image_bingo.jpg
END:VEVENT
BEGIN:VEVENT
DTSTART;TZID=Europe/London:20251228T203000
DTEND;TZID=Europe/London:20251228T230000
DTSTAMP:20260419T224525
CREATED:20250319T170746Z
LAST-MODIFIED:20250331T092409Z
UID:10002410-1766953800-1766962800@www.dorchestertrinity.club
SUMMARY:Evening Bingo
DESCRIPTION:Eyes down 8.30pm
URL:https://www.dorchestertrinity.club/event/evening-bingo-2/2025-12-28/
LOCATION:Dorchester Trinity Club\, 38 Trinity Street\, Dorchester\, Dorset\, DT1 1TT\, United Kingdom
CATEGORIES:Club Events
ATTACH;FMTTYPE=image/jpeg:https://www.dorchestertrinity.club/wp-content/uploads/2025/03/DTC_Events-image_bingo.jpg
END:VEVENT
BEGIN:VEVENT
DTSTART;TZID=Europe/London:20251227T203000
DTEND;TZID=Europe/London:20251227T230000
DTSTAMP:20260419T224525
CREATED:20250407T093428Z
LAST-MODIFIED:20250407T093429Z
UID:10003047-1766867400-1766876400@www.dorchestertrinity.club
SUMMARY:Evening Bingo
DESCRIPTION:Eyes down 8.30pm
URL:https://www.dorchestertrinity.club/event/evening-bingo-3/2025-12-27/
LOCATION:Dorchester Trinity Club\, 38 Trinity Street\, Dorchester\, Dorset\, DT1 1TT\, United Kingdom
CATEGORIES:Club Events
ATTACH;FMTTYPE=image/jpeg:https://www.dorchestertrinity.club/wp-content/uploads/2025/03/DTC_Events-image_bingo.jpg
END:VEVENT
BEGIN:VEVENT
DTSTART;TZID=Europe/London:20251226T203000
DTEND;TZID=Europe/London:20251226T223000
DTSTAMP:20260419T224525
CREATED:20250319T165705Z
LAST-MODIFIED:20250331T092805Z
UID:10002806-1766781000-1766788200@www.dorchestertrinity.club
SUMMARY:Chase the Ace
DESCRIPTION:
URL:https://www.dorchestertrinity.club/event/thrift-club-meat-draw/2025-12-26/
LOCATION:Dorchester Trinity Club\, 38 Trinity Street\, Dorchester\, Dorset\, DT1 1TT\, United Kingdom
CATEGORIES:Club Events
ATTACH;FMTTYPE=image/jpeg:https://www.dorchestertrinity.club/wp-content/uploads/2025/03/DTC_Events-image_03-25_chase-the-ace.jpg
END:VEVENT
BEGIN:VEVENT
DTSTART;TZID=Europe/London:20251224T140000
DTEND;TZID=Europe/London:20251224T170000
DTSTAMP:20260419T224525
CREATED:20250319T164812Z
LAST-MODIFIED:20250320T162435Z
UID:10000042-1766584800-1766595600@www.dorchestertrinity.club
SUMMARY:Lunchtime Bingo
DESCRIPTION:Eyes down 2pm
URL:https://www.dorchestertrinity.club/event/lunchtime-bingo/2025-12-24/
LOCATION:Dorchester Trinity Club\, 38 Trinity Street\, Dorchester\, Dorset\, DT1 1TT\, United Kingdom
CATEGORIES:Club Events
ATTACH;FMTTYPE=image/jpeg:https://www.dorchestertrinity.club/wp-content/uploads/2025/03/DTC_Events-image_bingo.jpg
END:VEVENT
BEGIN:VEVENT
DTSTART;TZID=Europe/London:20251221T203000
DTEND;TZID=Europe/London:20251221T230000
DTSTAMP:20260419T224525
CREATED:20250319T170746Z
LAST-MODIFIED:20250331T092409Z
UID:10002409-1766349000-1766358000@www.dorchestertrinity.club
SUMMARY:Evening Bingo
DESCRIPTION:Eyes down 8.30pm
URL:https://www.dorchestertrinity.club/event/evening-bingo-2/2025-12-21/
LOCATION:Dorchester Trinity Club\, 38 Trinity Street\, Dorchester\, Dorset\, DT1 1TT\, United Kingdom
CATEGORIES:Club Events
ATTACH;FMTTYPE=image/jpeg:https://www.dorchestertrinity.club/wp-content/uploads/2025/03/DTC_Events-image_bingo.jpg
END:VEVENT
BEGIN:VEVENT
DTSTART;TZID=Europe/London:20251220T190000
DTEND;TZID=Europe/London:20251220T230000
DTSTAMP:20260419T224525
CREATED:20250813T071306Z
LAST-MODIFIED:20250813T073914Z
UID:10003161-1766257200-1766271600@www.dorchestertrinity.club
SUMMARY:Christmas Party Night
DESCRIPTION:
URL:https://www.dorchestertrinity.club/event/christmas-party-night/
LOCATION:Dorchester Trinity Club\, 38 Trinity Street\, Dorchester\, Dorset\, DT1 1TT\, United Kingdom
CATEGORIES:Club Events
ATTACH;FMTTYPE=image/jpeg:https://www.dorchestertrinity.club/wp-content/uploads/2025/08/Christmas-party-night-2025.jpg
END:VEVENT
BEGIN:VEVENT
DTSTART;TZID=Europe/London:20251219T203000
DTEND;TZID=Europe/London:20251219T223000
DTSTAMP:20260419T224525
CREATED:20250319T165705Z
LAST-MODIFIED:20250331T092805Z
UID:10002805-1766176200-1766183400@www.dorchestertrinity.club
SUMMARY:Chase the Ace
DESCRIPTION:
URL:https://www.dorchestertrinity.club/event/thrift-club-meat-draw/2025-12-19/
LOCATION:Dorchester Trinity Club\, 38 Trinity Street\, Dorchester\, Dorset\, DT1 1TT\, United Kingdom
CATEGORIES:Club Events
ATTACH;FMTTYPE=image/jpeg:https://www.dorchestertrinity.club/wp-content/uploads/2025/03/DTC_Events-image_03-25_chase-the-ace.jpg
END:VEVENT
BEGIN:VEVENT
DTSTART;TZID=Europe/London:20251217T140000
DTEND;TZID=Europe/London:20251217T170000
DTSTAMP:20260419T224525
CREATED:20250319T164812Z
LAST-MODIFIED:20250320T162435Z
UID:10000041-1765980000-1765990800@www.dorchestertrinity.club
SUMMARY:Lunchtime Bingo
DESCRIPTION:Eyes down 2pm
URL:https://www.dorchestertrinity.club/event/lunchtime-bingo/2025-12-17/
LOCATION:Dorchester Trinity Club\, 38 Trinity Street\, Dorchester\, Dorset\, DT1 1TT\, United Kingdom
CATEGORIES:Club Events
ATTACH;FMTTYPE=image/jpeg:https://www.dorchestertrinity.club/wp-content/uploads/2025/03/DTC_Events-image_bingo.jpg
END:VEVENT
BEGIN:VEVENT
DTSTART;TZID=Europe/London:20251214T203000
DTEND;TZID=Europe/London:20251214T230000
DTSTAMP:20260419T224525
CREATED:20250319T170746Z
LAST-MODIFIED:20250331T092409Z
UID:10002408-1765744200-1765753200@www.dorchestertrinity.club
SUMMARY:Evening Bingo
DESCRIPTION:Eyes down 8.30pm
URL:https://www.dorchestertrinity.club/event/evening-bingo-2/2025-12-14/
LOCATION:Dorchester Trinity Club\, 38 Trinity Street\, Dorchester\, Dorset\, DT1 1TT\, United Kingdom
CATEGORIES:Club Events
ATTACH;FMTTYPE=image/jpeg:https://www.dorchestertrinity.club/wp-content/uploads/2025/03/DTC_Events-image_bingo.jpg
END:VEVENT
BEGIN:VEVENT
DTSTART;TZID=Europe/London:20251213T203000
DTEND;TZID=Europe/London:20251213T230000
DTSTAMP:20260419T224525
CREATED:20250407T093428Z
LAST-MODIFIED:20250407T093429Z
UID:10003046-1765657800-1765666800@www.dorchestertrinity.club
SUMMARY:Evening Bingo
DESCRIPTION:Eyes down 8.30pm
URL:https://www.dorchestertrinity.club/event/evening-bingo-3/2025-12-13/
LOCATION:Dorchester Trinity Club\, 38 Trinity Street\, Dorchester\, Dorset\, DT1 1TT\, United Kingdom
CATEGORIES:Club Events
ATTACH;FMTTYPE=image/jpeg:https://www.dorchestertrinity.club/wp-content/uploads/2025/03/DTC_Events-image_bingo.jpg
END:VEVENT
END:VCALENDAR