BEGIN:VCALENDAR
VERSION:2.0
PRODID:-//Dorchester Trinity Club - ECPv6.15.20//NONSGML v1.0//EN
CALSCALE:GREGORIAN
METHOD:PUBLISH
X-WR-CALNAME:Dorchester Trinity Club
X-ORIGINAL-URL:https://www.dorchestertrinity.club
X-WR-CALDESC:Events for Dorchester Trinity Club
REFRESH-INTERVAL;VALUE=DURATION:PT1H
X-Robots-Tag:noindex
X-PUBLISHED-TTL:PT1H
BEGIN:VTIMEZONE
TZID:Europe/London
BEGIN:DAYLIGHT
TZOFFSETFROM:+0000
TZOFFSETTO:+0100
TZNAME:BST
DTSTART:20250330T010000
END:DAYLIGHT
BEGIN:STANDARD
TZOFFSETFROM:+0100
TZOFFSETTO:+0000
TZNAME:GMT
DTSTART:20251026T010000
END:STANDARD
BEGIN:DAYLIGHT
TZOFFSETFROM:+0000
TZOFFSETTO:+0100
TZNAME:BST
DTSTART:20260329T010000
END:DAYLIGHT
BEGIN:STANDARD
TZOFFSETFROM:+0100
TZOFFSETTO:+0000
TZNAME:GMT
DTSTART:20261025T010000
END:STANDARD
BEGIN:DAYLIGHT
TZOFFSETFROM:+0000
TZOFFSETTO:+0100
TZNAME:BST
DTSTART:20270328T010000
END:DAYLIGHT
BEGIN:STANDARD
TZOFFSETFROM:+0100
TZOFFSETTO:+0000
TZNAME:GMT
DTSTART:20271031T010000
END:STANDARD
END:VTIMEZONE
BEGIN:VEVENT
DTSTART;TZID=Europe/London:20260612T203000
DTEND;TZID=Europe/London:20260612T223000
DTSTAMP:20260423T113518
CREATED:20250319T165705Z
LAST-MODIFIED:20250331T092805Z
UID:10002830-1781296200-1781303400@www.dorchestertrinity.club
SUMMARY:Chase the Ace
DESCRIPTION:
URL:https://www.dorchestertrinity.club/event/thrift-club-meat-draw/2026-06-12/
LOCATION:Dorchester Trinity Club\, 38 Trinity Street\, Dorchester\, Dorset\, DT1 1TT\, United Kingdom
CATEGORIES:Club Events
ATTACH;FMTTYPE=image/jpeg:https://www.dorchestertrinity.club/wp-content/uploads/2025/03/DTC_Events-image_03-25_chase-the-ace.jpg
END:VEVENT
BEGIN:VEVENT
DTSTART;TZID=Europe/London:20260613T203000
DTEND;TZID=Europe/London:20260613T230000
DTSTAMP:20260423T113518
CREATED:20250407T093428Z
LAST-MODIFIED:20250407T093429Z
UID:10003059-1781382600-1781391600@www.dorchestertrinity.club
SUMMARY:Evening Bingo
DESCRIPTION:Eyes down 8.30pm
URL:https://www.dorchestertrinity.club/event/evening-bingo-3/2026-06-13/
LOCATION:Dorchester Trinity Club\, 38 Trinity Street\, Dorchester\, Dorset\, DT1 1TT\, United Kingdom
CATEGORIES:Club Events
ATTACH;FMTTYPE=image/jpeg:https://www.dorchestertrinity.club/wp-content/uploads/2025/03/DTC_Events-image_bingo.jpg
END:VEVENT
BEGIN:VEVENT
DTSTART;TZID=Europe/London:20260614T203000
DTEND;TZID=Europe/London:20260614T230000
DTSTAMP:20260423T113518
CREATED:20250319T170746Z
LAST-MODIFIED:20250331T092409Z
UID:10002434-1781469000-1781478000@www.dorchestertrinity.club
SUMMARY:Evening Bingo
DESCRIPTION:Eyes down 8.30pm
URL:https://www.dorchestertrinity.club/event/evening-bingo-2/2026-06-14/
LOCATION:Dorchester Trinity Club\, 38 Trinity Street\, Dorchester\, Dorset\, DT1 1TT\, United Kingdom
CATEGORIES:Club Events
ATTACH;FMTTYPE=image/jpeg:https://www.dorchestertrinity.club/wp-content/uploads/2025/03/DTC_Events-image_bingo.jpg
END:VEVENT
BEGIN:VEVENT
DTSTART;TZID=Europe/London:20260617T140000
DTEND;TZID=Europe/London:20260617T170000
DTSTAMP:20260423T113518
CREATED:20250319T164812Z
LAST-MODIFIED:20250320T162435Z
UID:10000067-1781704800-1781715600@www.dorchestertrinity.club
SUMMARY:Lunchtime Bingo
DESCRIPTION:Eyes down 2pm
URL:https://www.dorchestertrinity.club/event/lunchtime-bingo/2026-06-17/
LOCATION:Dorchester Trinity Club\, 38 Trinity Street\, Dorchester\, Dorset\, DT1 1TT\, United Kingdom
CATEGORIES:Club Events
ATTACH;FMTTYPE=image/jpeg:https://www.dorchestertrinity.club/wp-content/uploads/2025/03/DTC_Events-image_bingo.jpg
END:VEVENT
BEGIN:VEVENT
DTSTART;TZID=Europe/London:20260619T203000
DTEND;TZID=Europe/London:20260619T223000
DTSTAMP:20260423T113518
CREATED:20250319T165705Z
LAST-MODIFIED:20250331T092805Z
UID:10002831-1781901000-1781908200@www.dorchestertrinity.club
SUMMARY:Chase the Ace
DESCRIPTION:
URL:https://www.dorchestertrinity.club/event/thrift-club-meat-draw/2026-06-19/
LOCATION:Dorchester Trinity Club\, 38 Trinity Street\, Dorchester\, Dorset\, DT1 1TT\, United Kingdom
CATEGORIES:Club Events
ATTACH;FMTTYPE=image/jpeg:https://www.dorchestertrinity.club/wp-content/uploads/2025/03/DTC_Events-image_03-25_chase-the-ace.jpg
END:VEVENT
BEGIN:VEVENT
DTSTART;TZID=Europe/London:20260621T203000
DTEND;TZID=Europe/London:20260621T230000
DTSTAMP:20260423T113518
CREATED:20250319T170746Z
LAST-MODIFIED:20250331T092409Z
UID:10002435-1782073800-1782082800@www.dorchestertrinity.club
SUMMARY:Evening Bingo
DESCRIPTION:Eyes down 8.30pm
URL:https://www.dorchestertrinity.club/event/evening-bingo-2/2026-06-21/
LOCATION:Dorchester Trinity Club\, 38 Trinity Street\, Dorchester\, Dorset\, DT1 1TT\, United Kingdom
CATEGORIES:Club Events
ATTACH;FMTTYPE=image/jpeg:https://www.dorchestertrinity.club/wp-content/uploads/2025/03/DTC_Events-image_bingo.jpg
END:VEVENT
BEGIN:VEVENT
DTSTART;TZID=Europe/London:20260624T140000
DTEND;TZID=Europe/London:20260624T170000
DTSTAMP:20260423T113518
CREATED:20250319T164812Z
LAST-MODIFIED:20250320T162435Z
UID:10000068-1782309600-1782320400@www.dorchestertrinity.club
SUMMARY:Lunchtime Bingo
DESCRIPTION:Eyes down 2pm
URL:https://www.dorchestertrinity.club/event/lunchtime-bingo/2026-06-24/
LOCATION:Dorchester Trinity Club\, 38 Trinity Street\, Dorchester\, Dorset\, DT1 1TT\, United Kingdom
CATEGORIES:Club Events
ATTACH;FMTTYPE=image/jpeg:https://www.dorchestertrinity.club/wp-content/uploads/2025/03/DTC_Events-image_bingo.jpg
END:VEVENT
BEGIN:VEVENT
DTSTART;TZID=Europe/London:20260626T203000
DTEND;TZID=Europe/London:20260626T223000
DTSTAMP:20260423T113518
CREATED:20250319T165705Z
LAST-MODIFIED:20250331T092805Z
UID:10002832-1782505800-1782513000@www.dorchestertrinity.club
SUMMARY:Chase the Ace
DESCRIPTION:
URL:https://www.dorchestertrinity.club/event/thrift-club-meat-draw/2026-06-26/
LOCATION:Dorchester Trinity Club\, 38 Trinity Street\, Dorchester\, Dorset\, DT1 1TT\, United Kingdom
CATEGORIES:Club Events
ATTACH;FMTTYPE=image/jpeg:https://www.dorchestertrinity.club/wp-content/uploads/2025/03/DTC_Events-image_03-25_chase-the-ace.jpg
END:VEVENT
BEGIN:VEVENT
DTSTART;TZID=Europe/London:20260627T203000
DTEND;TZID=Europe/London:20260627T230000
DTSTAMP:20260423T113518
CREATED:20250407T093428Z
LAST-MODIFIED:20250407T093429Z
UID:10003060-1782592200-1782601200@www.dorchestertrinity.club
SUMMARY:Evening Bingo
DESCRIPTION:Eyes down 8.30pm
URL:https://www.dorchestertrinity.club/event/evening-bingo-3/2026-06-27/
LOCATION:Dorchester Trinity Club\, 38 Trinity Street\, Dorchester\, Dorset\, DT1 1TT\, United Kingdom
CATEGORIES:Club Events
ATTACH;FMTTYPE=image/jpeg:https://www.dorchestertrinity.club/wp-content/uploads/2025/03/DTC_Events-image_bingo.jpg
END:VEVENT
BEGIN:VEVENT
DTSTART;TZID=Europe/London:20260628T203000
DTEND;TZID=Europe/London:20260628T230000
DTSTAMP:20260423T113518
CREATED:20250319T170746Z
LAST-MODIFIED:20250331T092409Z
UID:10002436-1782678600-1782687600@www.dorchestertrinity.club
SUMMARY:Evening Bingo
DESCRIPTION:Eyes down 8.30pm
URL:https://www.dorchestertrinity.club/event/evening-bingo-2/2026-06-28/
LOCATION:Dorchester Trinity Club\, 38 Trinity Street\, Dorchester\, Dorset\, DT1 1TT\, United Kingdom
CATEGORIES:Club Events
ATTACH;FMTTYPE=image/jpeg:https://www.dorchestertrinity.club/wp-content/uploads/2025/03/DTC_Events-image_bingo.jpg
END:VEVENT
BEGIN:VEVENT
DTSTART;TZID=Europe/London:20260701T140000
DTEND;TZID=Europe/London:20260701T170000
DTSTAMP:20260423T113518
CREATED:20250319T164812Z
LAST-MODIFIED:20250320T162435Z
UID:10000069-1782914400-1782925200@www.dorchestertrinity.club
SUMMARY:Lunchtime Bingo
DESCRIPTION:Eyes down 2pm
URL:https://www.dorchestertrinity.club/event/lunchtime-bingo/2026-07-01/
LOCATION:Dorchester Trinity Club\, 38 Trinity Street\, Dorchester\, Dorset\, DT1 1TT\, United Kingdom
CATEGORIES:Club Events
ATTACH;FMTTYPE=image/jpeg:https://www.dorchestertrinity.club/wp-content/uploads/2025/03/DTC_Events-image_bingo.jpg
END:VEVENT
BEGIN:VEVENT
DTSTART;TZID=Europe/London:20260703T203000
DTEND;TZID=Europe/London:20260703T223000
DTSTAMP:20260423T113518
CREATED:20250319T165705Z
LAST-MODIFIED:20250331T092805Z
UID:10002833-1783110600-1783117800@www.dorchestertrinity.club
SUMMARY:Chase the Ace
DESCRIPTION:
URL:https://www.dorchestertrinity.club/event/thrift-club-meat-draw/2026-07-03/
LOCATION:Dorchester Trinity Club\, 38 Trinity Street\, Dorchester\, Dorset\, DT1 1TT\, United Kingdom
CATEGORIES:Club Events
ATTACH;FMTTYPE=image/jpeg:https://www.dorchestertrinity.club/wp-content/uploads/2025/03/DTC_Events-image_03-25_chase-the-ace.jpg
END:VEVENT
BEGIN:VEVENT
DTSTART;TZID=Europe/London:20260705T203000
DTEND;TZID=Europe/London:20260705T230000
DTSTAMP:20260423T113518
CREATED:20250319T170746Z
LAST-MODIFIED:20250331T092409Z
UID:10002437-1783283400-1783292400@www.dorchestertrinity.club
SUMMARY:Evening Bingo
DESCRIPTION:Eyes down 8.30pm
URL:https://www.dorchestertrinity.club/event/evening-bingo-2/2026-07-05/
LOCATION:Dorchester Trinity Club\, 38 Trinity Street\, Dorchester\, Dorset\, DT1 1TT\, United Kingdom
CATEGORIES:Club Events
ATTACH;FMTTYPE=image/jpeg:https://www.dorchestertrinity.club/wp-content/uploads/2025/03/DTC_Events-image_bingo.jpg
END:VEVENT
BEGIN:VEVENT
DTSTART;TZID=Europe/London:20260708T140000
DTEND;TZID=Europe/London:20260708T170000
DTSTAMP:20260423T113518
CREATED:20250319T164812Z
LAST-MODIFIED:20250320T162435Z
UID:10000070-1783519200-1783530000@www.dorchestertrinity.club
SUMMARY:Lunchtime Bingo
DESCRIPTION:Eyes down 2pm
URL:https://www.dorchestertrinity.club/event/lunchtime-bingo/2026-07-08/
LOCATION:Dorchester Trinity Club\, 38 Trinity Street\, Dorchester\, Dorset\, DT1 1TT\, United Kingdom
CATEGORIES:Club Events
ATTACH;FMTTYPE=image/jpeg:https://www.dorchestertrinity.club/wp-content/uploads/2025/03/DTC_Events-image_bingo.jpg
END:VEVENT
BEGIN:VEVENT
DTSTART;TZID=Europe/London:20260710T203000
DTEND;TZID=Europe/London:20260710T223000
DTSTAMP:20260423T113518
CREATED:20250319T165705Z
LAST-MODIFIED:20250331T092805Z
UID:10002834-1783715400-1783722600@www.dorchestertrinity.club
SUMMARY:Chase the Ace
DESCRIPTION:
URL:https://www.dorchestertrinity.club/event/thrift-club-meat-draw/2026-07-10/
LOCATION:Dorchester Trinity Club\, 38 Trinity Street\, Dorchester\, Dorset\, DT1 1TT\, United Kingdom
CATEGORIES:Club Events
ATTACH;FMTTYPE=image/jpeg:https://www.dorchestertrinity.club/wp-content/uploads/2025/03/DTC_Events-image_03-25_chase-the-ace.jpg
END:VEVENT
BEGIN:VEVENT
DTSTART;TZID=Europe/London:20260711T203000
DTEND;TZID=Europe/London:20260711T230000
DTSTAMP:20260423T113518
CREATED:20250407T093428Z
LAST-MODIFIED:20250407T093429Z
UID:10003061-1783801800-1783810800@www.dorchestertrinity.club
SUMMARY:Evening Bingo
DESCRIPTION:Eyes down 8.30pm
URL:https://www.dorchestertrinity.club/event/evening-bingo-3/2026-07-11/
LOCATION:Dorchester Trinity Club\, 38 Trinity Street\, Dorchester\, Dorset\, DT1 1TT\, United Kingdom
CATEGORIES:Club Events
ATTACH;FMTTYPE=image/jpeg:https://www.dorchestertrinity.club/wp-content/uploads/2025/03/DTC_Events-image_bingo.jpg
END:VEVENT
BEGIN:VEVENT
DTSTART;TZID=Europe/London:20260712T203000
DTEND;TZID=Europe/London:20260712T230000
DTSTAMP:20260423T113518
CREATED:20250319T170746Z
LAST-MODIFIED:20250331T092409Z
UID:10002438-1783888200-1783897200@www.dorchestertrinity.club
SUMMARY:Evening Bingo
DESCRIPTION:Eyes down 8.30pm
URL:https://www.dorchestertrinity.club/event/evening-bingo-2/2026-07-12/
LOCATION:Dorchester Trinity Club\, 38 Trinity Street\, Dorchester\, Dorset\, DT1 1TT\, United Kingdom
CATEGORIES:Club Events
ATTACH;FMTTYPE=image/jpeg:https://www.dorchestertrinity.club/wp-content/uploads/2025/03/DTC_Events-image_bingo.jpg
END:VEVENT
BEGIN:VEVENT
DTSTART;TZID=Europe/London:20260715T140000
DTEND;TZID=Europe/London:20260715T170000
DTSTAMP:20260423T113518
CREATED:20250319T164812Z
LAST-MODIFIED:20250320T162435Z
UID:10000071-1784124000-1784134800@www.dorchestertrinity.club
SUMMARY:Lunchtime Bingo
DESCRIPTION:Eyes down 2pm
URL:https://www.dorchestertrinity.club/event/lunchtime-bingo/2026-07-15/
LOCATION:Dorchester Trinity Club\, 38 Trinity Street\, Dorchester\, Dorset\, DT1 1TT\, United Kingdom
CATEGORIES:Club Events
ATTACH;FMTTYPE=image/jpeg:https://www.dorchestertrinity.club/wp-content/uploads/2025/03/DTC_Events-image_bingo.jpg
END:VEVENT
BEGIN:VEVENT
DTSTART;TZID=Europe/London:20260717T203000
DTEND;TZID=Europe/London:20260717T223000
DTSTAMP:20260423T113518
CREATED:20250319T165705Z
LAST-MODIFIED:20250331T092805Z
UID:10002835-1784320200-1784327400@www.dorchestertrinity.club
SUMMARY:Chase the Ace
DESCRIPTION:
URL:https://www.dorchestertrinity.club/event/thrift-club-meat-draw/2026-07-17/
LOCATION:Dorchester Trinity Club\, 38 Trinity Street\, Dorchester\, Dorset\, DT1 1TT\, United Kingdom
CATEGORIES:Club Events
ATTACH;FMTTYPE=image/jpeg:https://www.dorchestertrinity.club/wp-content/uploads/2025/03/DTC_Events-image_03-25_chase-the-ace.jpg
END:VEVENT
BEGIN:VEVENT
DTSTART;TZID=Europe/London:20260719T203000
DTEND;TZID=Europe/London:20260719T230000
DTSTAMP:20260423T113518
CREATED:20250319T170746Z
LAST-MODIFIED:20250331T092409Z
UID:10002439-1784493000-1784502000@www.dorchestertrinity.club
SUMMARY:Evening Bingo
DESCRIPTION:Eyes down 8.30pm
URL:https://www.dorchestertrinity.club/event/evening-bingo-2/2026-07-19/
LOCATION:Dorchester Trinity Club\, 38 Trinity Street\, Dorchester\, Dorset\, DT1 1TT\, United Kingdom
CATEGORIES:Club Events
ATTACH;FMTTYPE=image/jpeg:https://www.dorchestertrinity.club/wp-content/uploads/2025/03/DTC_Events-image_bingo.jpg
END:VEVENT
BEGIN:VEVENT
DTSTART;TZID=Europe/London:20260722T140000
DTEND;TZID=Europe/London:20260722T170000
DTSTAMP:20260423T113518
CREATED:20250319T164812Z
LAST-MODIFIED:20250320T162435Z
UID:10000072-1784728800-1784739600@www.dorchestertrinity.club
SUMMARY:Lunchtime Bingo
DESCRIPTION:Eyes down 2pm
URL:https://www.dorchestertrinity.club/event/lunchtime-bingo/2026-07-22/
LOCATION:Dorchester Trinity Club\, 38 Trinity Street\, Dorchester\, Dorset\, DT1 1TT\, United Kingdom
CATEGORIES:Club Events
ATTACH;FMTTYPE=image/jpeg:https://www.dorchestertrinity.club/wp-content/uploads/2025/03/DTC_Events-image_bingo.jpg
END:VEVENT
BEGIN:VEVENT
DTSTART;TZID=Europe/London:20260724T203000
DTEND;TZID=Europe/London:20260724T223000
DTSTAMP:20260423T113518
CREATED:20250319T165705Z
LAST-MODIFIED:20250331T092805Z
UID:10002836-1784925000-1784932200@www.dorchestertrinity.club
SUMMARY:Chase the Ace
DESCRIPTION:
URL:https://www.dorchestertrinity.club/event/thrift-club-meat-draw/2026-07-24/
LOCATION:Dorchester Trinity Club\, 38 Trinity Street\, Dorchester\, Dorset\, DT1 1TT\, United Kingdom
CATEGORIES:Club Events
ATTACH;FMTTYPE=image/jpeg:https://www.dorchestertrinity.club/wp-content/uploads/2025/03/DTC_Events-image_03-25_chase-the-ace.jpg
END:VEVENT
BEGIN:VEVENT
DTSTART;TZID=Europe/London:20260725T203000
DTEND;TZID=Europe/London:20260725T230000
DTSTAMP:20260423T113518
CREATED:20250407T093428Z
LAST-MODIFIED:20250407T093429Z
UID:10003062-1785011400-1785020400@www.dorchestertrinity.club
SUMMARY:Evening Bingo
DESCRIPTION:Eyes down 8.30pm
URL:https://www.dorchestertrinity.club/event/evening-bingo-3/2026-07-25/
LOCATION:Dorchester Trinity Club\, 38 Trinity Street\, Dorchester\, Dorset\, DT1 1TT\, United Kingdom
CATEGORIES:Club Events
ATTACH;FMTTYPE=image/jpeg:https://www.dorchestertrinity.club/wp-content/uploads/2025/03/DTC_Events-image_bingo.jpg
END:VEVENT
BEGIN:VEVENT
DTSTART;TZID=Europe/London:20260726T203000
DTEND;TZID=Europe/London:20260726T230000
DTSTAMP:20260423T113518
CREATED:20250319T170746Z
LAST-MODIFIED:20250331T092409Z
UID:10002440-1785097800-1785106800@www.dorchestertrinity.club
SUMMARY:Evening Bingo
DESCRIPTION:Eyes down 8.30pm
URL:https://www.dorchestertrinity.club/event/evening-bingo-2/2026-07-26/
LOCATION:Dorchester Trinity Club\, 38 Trinity Street\, Dorchester\, Dorset\, DT1 1TT\, United Kingdom
CATEGORIES:Club Events
ATTACH;FMTTYPE=image/jpeg:https://www.dorchestertrinity.club/wp-content/uploads/2025/03/DTC_Events-image_bingo.jpg
END:VEVENT
BEGIN:VEVENT
DTSTART;TZID=Europe/London:20260729T140000
DTEND;TZID=Europe/London:20260729T170000
DTSTAMP:20260423T113518
CREATED:20250319T164812Z
LAST-MODIFIED:20250320T162435Z
UID:10000073-1785333600-1785344400@www.dorchestertrinity.club
SUMMARY:Lunchtime Bingo
DESCRIPTION:Eyes down 2pm
URL:https://www.dorchestertrinity.club/event/lunchtime-bingo/2026-07-29/
LOCATION:Dorchester Trinity Club\, 38 Trinity Street\, Dorchester\, Dorset\, DT1 1TT\, United Kingdom
CATEGORIES:Club Events
ATTACH;FMTTYPE=image/jpeg:https://www.dorchestertrinity.club/wp-content/uploads/2025/03/DTC_Events-image_bingo.jpg
END:VEVENT
BEGIN:VEVENT
DTSTART;TZID=Europe/London:20260731T203000
DTEND;TZID=Europe/London:20260731T223000
DTSTAMP:20260423T113518
CREATED:20250319T165705Z
LAST-MODIFIED:20250331T092805Z
UID:10002837-1785529800-1785537000@www.dorchestertrinity.club
SUMMARY:Chase the Ace
DESCRIPTION:
URL:https://www.dorchestertrinity.club/event/thrift-club-meat-draw/2026-07-31/
LOCATION:Dorchester Trinity Club\, 38 Trinity Street\, Dorchester\, Dorset\, DT1 1TT\, United Kingdom
CATEGORIES:Club Events
ATTACH;FMTTYPE=image/jpeg:https://www.dorchestertrinity.club/wp-content/uploads/2025/03/DTC_Events-image_03-25_chase-the-ace.jpg
END:VEVENT
BEGIN:VEVENT
DTSTART;TZID=Europe/London:20260802T203000
DTEND;TZID=Europe/London:20260802T230000
DTSTAMP:20260423T113518
CREATED:20250319T170746Z
LAST-MODIFIED:20250331T092409Z
UID:10002441-1785702600-1785711600@www.dorchestertrinity.club
SUMMARY:Evening Bingo
DESCRIPTION:Eyes down 8.30pm
URL:https://www.dorchestertrinity.club/event/evening-bingo-2/2026-08-02/
LOCATION:Dorchester Trinity Club\, 38 Trinity Street\, Dorchester\, Dorset\, DT1 1TT\, United Kingdom
CATEGORIES:Club Events
ATTACH;FMTTYPE=image/jpeg:https://www.dorchestertrinity.club/wp-content/uploads/2025/03/DTC_Events-image_bingo.jpg
END:VEVENT
BEGIN:VEVENT
DTSTART;TZID=Europe/London:20260805T140000
DTEND;TZID=Europe/London:20260805T170000
DTSTAMP:20260423T113518
CREATED:20250319T164812Z
LAST-MODIFIED:20250320T162435Z
UID:10000074-1785938400-1785949200@www.dorchestertrinity.club
SUMMARY:Lunchtime Bingo
DESCRIPTION:Eyes down 2pm
URL:https://www.dorchestertrinity.club/event/lunchtime-bingo/2026-08-05/
LOCATION:Dorchester Trinity Club\, 38 Trinity Street\, Dorchester\, Dorset\, DT1 1TT\, United Kingdom
CATEGORIES:Club Events
ATTACH;FMTTYPE=image/jpeg:https://www.dorchestertrinity.club/wp-content/uploads/2025/03/DTC_Events-image_bingo.jpg
END:VEVENT
BEGIN:VEVENT
DTSTART;TZID=Europe/London:20260807T203000
DTEND;TZID=Europe/London:20260807T223000
DTSTAMP:20260423T113518
CREATED:20250319T165705Z
LAST-MODIFIED:20250331T092805Z
UID:10002838-1786134600-1786141800@www.dorchestertrinity.club
SUMMARY:Chase the Ace
DESCRIPTION:
URL:https://www.dorchestertrinity.club/event/thrift-club-meat-draw/2026-08-07/
LOCATION:Dorchester Trinity Club\, 38 Trinity Street\, Dorchester\, Dorset\, DT1 1TT\, United Kingdom
CATEGORIES:Club Events
ATTACH;FMTTYPE=image/jpeg:https://www.dorchestertrinity.club/wp-content/uploads/2025/03/DTC_Events-image_03-25_chase-the-ace.jpg
END:VEVENT
BEGIN:VEVENT
DTSTART;TZID=Europe/London:20260808T203000
DTEND;TZID=Europe/London:20260808T230000
DTSTAMP:20260423T113518
CREATED:20250407T093428Z
LAST-MODIFIED:20250407T093429Z
UID:10003063-1786221000-1786230000@www.dorchestertrinity.club
SUMMARY:Evening Bingo
DESCRIPTION:Eyes down 8.30pm
URL:https://www.dorchestertrinity.club/event/evening-bingo-3/2026-08-08/
LOCATION:Dorchester Trinity Club\, 38 Trinity Street\, Dorchester\, Dorset\, DT1 1TT\, United Kingdom
CATEGORIES:Club Events
ATTACH;FMTTYPE=image/jpeg:https://www.dorchestertrinity.club/wp-content/uploads/2025/03/DTC_Events-image_bingo.jpg
END:VEVENT
END:VCALENDAR