BEGIN:VCALENDAR
VERSION:2.0
PRODID:-//Dorchester Trinity Club - ECPv6.15.20//NONSGML v1.0//EN
CALSCALE:GREGORIAN
METHOD:PUBLISH
X-WR-CALNAME:Dorchester Trinity Club
X-ORIGINAL-URL:https://www.dorchestertrinity.club
X-WR-CALDESC:Events for Dorchester Trinity Club
REFRESH-INTERVAL;VALUE=DURATION:PT1H
X-Robots-Tag:noindex
X-PUBLISHED-TTL:PT1H
BEGIN:VTIMEZONE
TZID:Europe/London
BEGIN:DAYLIGHT
TZOFFSETFROM:+0000
TZOFFSETTO:+0100
TZNAME:BST
DTSTART:20250330T010000
END:DAYLIGHT
BEGIN:STANDARD
TZOFFSETFROM:+0100
TZOFFSETTO:+0000
TZNAME:GMT
DTSTART:20251026T010000
END:STANDARD
BEGIN:DAYLIGHT
TZOFFSETFROM:+0000
TZOFFSETTO:+0100
TZNAME:BST
DTSTART:20260329T010000
END:DAYLIGHT
BEGIN:STANDARD
TZOFFSETFROM:+0100
TZOFFSETTO:+0000
TZNAME:GMT
DTSTART:20261025T010000
END:STANDARD
BEGIN:DAYLIGHT
TZOFFSETFROM:+0000
TZOFFSETTO:+0100
TZNAME:BST
DTSTART:20270328T010000
END:DAYLIGHT
BEGIN:STANDARD
TZOFFSETFROM:+0100
TZOFFSETTO:+0000
TZNAME:GMT
DTSTART:20271031T010000
END:STANDARD
END:VTIMEZONE
BEGIN:VEVENT
DTSTART;TZID=Europe/London:20260419T203000
DTEND;TZID=Europe/London:20260419T230000
DTSTAMP:20260419T162509
CREATED:20250319T170746Z
LAST-MODIFIED:20250331T092409Z
UID:10002426-1776630600-1776639600@www.dorchestertrinity.club
SUMMARY:Evening Bingo
DESCRIPTION:Eyes down 8.30pm
URL:https://www.dorchestertrinity.club/event/evening-bingo-2/2026-04-19/
LOCATION:Dorchester Trinity Club\, 38 Trinity Street\, Dorchester\, Dorset\, DT1 1TT\, United Kingdom
CATEGORIES:Club Events
ATTACH;FMTTYPE=image/jpeg:https://www.dorchestertrinity.club/wp-content/uploads/2025/03/DTC_Events-image_bingo.jpg
END:VEVENT
BEGIN:VEVENT
DTSTART;TZID=Europe/London:20260422T140000
DTEND;TZID=Europe/London:20260422T170000
DTSTAMP:20260419T162509
CREATED:20250319T164812Z
LAST-MODIFIED:20250320T162435Z
UID:10000059-1776866400-1776877200@www.dorchestertrinity.club
SUMMARY:Lunchtime Bingo
DESCRIPTION:Eyes down 2pm
URL:https://www.dorchestertrinity.club/event/lunchtime-bingo/2026-04-22/
LOCATION:Dorchester Trinity Club\, 38 Trinity Street\, Dorchester\, Dorset\, DT1 1TT\, United Kingdom
CATEGORIES:Club Events
ATTACH;FMTTYPE=image/jpeg:https://www.dorchestertrinity.club/wp-content/uploads/2025/03/DTC_Events-image_bingo.jpg
END:VEVENT
BEGIN:VEVENT
DTSTART;TZID=Europe/London:20260424T203000
DTEND;TZID=Europe/London:20260424T223000
DTSTAMP:20260419T162509
CREATED:20250319T165705Z
LAST-MODIFIED:20250331T092805Z
UID:10002823-1777062600-1777069800@www.dorchestertrinity.club
SUMMARY:Chase the Ace
DESCRIPTION:
URL:https://www.dorchestertrinity.club/event/thrift-club-meat-draw/2026-04-24/
LOCATION:Dorchester Trinity Club\, 38 Trinity Street\, Dorchester\, Dorset\, DT1 1TT\, United Kingdom
CATEGORIES:Club Events
ATTACH;FMTTYPE=image/jpeg:https://www.dorchestertrinity.club/wp-content/uploads/2025/03/DTC_Events-image_03-25_chase-the-ace.jpg
END:VEVENT
BEGIN:VEVENT
DTSTART;TZID=Europe/London:20260426T203000
DTEND;TZID=Europe/London:20260426T230000
DTSTAMP:20260419T162509
CREATED:20250319T170746Z
LAST-MODIFIED:20250331T092409Z
UID:10002427-1777235400-1777244400@www.dorchestertrinity.club
SUMMARY:Evening Bingo
DESCRIPTION:Eyes down 8.30pm
URL:https://www.dorchestertrinity.club/event/evening-bingo-2/2026-04-26/
LOCATION:Dorchester Trinity Club\, 38 Trinity Street\, Dorchester\, Dorset\, DT1 1TT\, United Kingdom
CATEGORIES:Club Events
ATTACH;FMTTYPE=image/jpeg:https://www.dorchestertrinity.club/wp-content/uploads/2025/03/DTC_Events-image_bingo.jpg
END:VEVENT
BEGIN:VEVENT
DTSTART;TZID=Europe/London:20260429T140000
DTEND;TZID=Europe/London:20260429T170000
DTSTAMP:20260419T162509
CREATED:20250319T164812Z
LAST-MODIFIED:20250320T162435Z
UID:10000060-1777471200-1777482000@www.dorchestertrinity.club
SUMMARY:Lunchtime Bingo
DESCRIPTION:Eyes down 2pm
URL:https://www.dorchestertrinity.club/event/lunchtime-bingo/2026-04-29/
LOCATION:Dorchester Trinity Club\, 38 Trinity Street\, Dorchester\, Dorset\, DT1 1TT\, United Kingdom
CATEGORIES:Club Events
ATTACH;FMTTYPE=image/jpeg:https://www.dorchestertrinity.club/wp-content/uploads/2025/03/DTC_Events-image_bingo.jpg
END:VEVENT
BEGIN:VEVENT
DTSTART;TZID=Europe/London:20260501T203000
DTEND;TZID=Europe/London:20260501T223000
DTSTAMP:20260419T162509
CREATED:20250319T165705Z
LAST-MODIFIED:20250331T092805Z
UID:10002824-1777667400-1777674600@www.dorchestertrinity.club
SUMMARY:Chase the Ace
DESCRIPTION:
URL:https://www.dorchestertrinity.club/event/thrift-club-meat-draw/2026-05-01/
LOCATION:Dorchester Trinity Club\, 38 Trinity Street\, Dorchester\, Dorset\, DT1 1TT\, United Kingdom
CATEGORIES:Club Events
ATTACH;FMTTYPE=image/jpeg:https://www.dorchestertrinity.club/wp-content/uploads/2025/03/DTC_Events-image_03-25_chase-the-ace.jpg
END:VEVENT
BEGIN:VEVENT
DTSTART;TZID=Europe/London:20260502T203000
DTEND;TZID=Europe/London:20260502T230000
DTSTAMP:20260419T162509
CREATED:20250407T093428Z
LAST-MODIFIED:20250407T093429Z
UID:10003056-1777753800-1777762800@www.dorchestertrinity.club
SUMMARY:Evening Bingo
DESCRIPTION:Eyes down 8.30pm
URL:https://www.dorchestertrinity.club/event/evening-bingo-3/2026-05-02/
LOCATION:Dorchester Trinity Club\, 38 Trinity Street\, Dorchester\, Dorset\, DT1 1TT\, United Kingdom
CATEGORIES:Club Events
ATTACH;FMTTYPE=image/jpeg:https://www.dorchestertrinity.club/wp-content/uploads/2025/03/DTC_Events-image_bingo.jpg
END:VEVENT
BEGIN:VEVENT
DTSTART;TZID=Europe/London:20260503T203000
DTEND;TZID=Europe/London:20260503T230000
DTSTAMP:20260419T162509
CREATED:20250319T170746Z
LAST-MODIFIED:20250331T092409Z
UID:10002428-1777840200-1777849200@www.dorchestertrinity.club
SUMMARY:Evening Bingo
DESCRIPTION:Eyes down 8.30pm
URL:https://www.dorchestertrinity.club/event/evening-bingo-2/2026-05-03/
LOCATION:Dorchester Trinity Club\, 38 Trinity Street\, Dorchester\, Dorset\, DT1 1TT\, United Kingdom
CATEGORIES:Club Events
ATTACH;FMTTYPE=image/jpeg:https://www.dorchestertrinity.club/wp-content/uploads/2025/03/DTC_Events-image_bingo.jpg
END:VEVENT
BEGIN:VEVENT
DTSTART;TZID=Europe/London:20260506T140000
DTEND;TZID=Europe/London:20260506T170000
DTSTAMP:20260419T162509
CREATED:20250319T164812Z
LAST-MODIFIED:20250320T162435Z
UID:10000061-1778076000-1778086800@www.dorchestertrinity.club
SUMMARY:Lunchtime Bingo
DESCRIPTION:Eyes down 2pm
URL:https://www.dorchestertrinity.club/event/lunchtime-bingo/2026-05-06/
LOCATION:Dorchester Trinity Club\, 38 Trinity Street\, Dorchester\, Dorset\, DT1 1TT\, United Kingdom
CATEGORIES:Club Events
ATTACH;FMTTYPE=image/jpeg:https://www.dorchestertrinity.club/wp-content/uploads/2025/03/DTC_Events-image_bingo.jpg
END:VEVENT
BEGIN:VEVENT
DTSTART;TZID=Europe/London:20260508T203000
DTEND;TZID=Europe/London:20260508T223000
DTSTAMP:20260419T162509
CREATED:20250319T165705Z
LAST-MODIFIED:20250331T092805Z
UID:10002825-1778272200-1778279400@www.dorchestertrinity.club
SUMMARY:Chase the Ace
DESCRIPTION:
URL:https://www.dorchestertrinity.club/event/thrift-club-meat-draw/2026-05-08/
LOCATION:Dorchester Trinity Club\, 38 Trinity Street\, Dorchester\, Dorset\, DT1 1TT\, United Kingdom
CATEGORIES:Club Events
ATTACH;FMTTYPE=image/jpeg:https://www.dorchestertrinity.club/wp-content/uploads/2025/03/DTC_Events-image_03-25_chase-the-ace.jpg
END:VEVENT
BEGIN:VEVENT
DTSTART;TZID=Europe/London:20260510T203000
DTEND;TZID=Europe/London:20260510T230000
DTSTAMP:20260419T162509
CREATED:20250319T170746Z
LAST-MODIFIED:20250331T092409Z
UID:10002429-1778445000-1778454000@www.dorchestertrinity.club
SUMMARY:Evening Bingo
DESCRIPTION:Eyes down 8.30pm
URL:https://www.dorchestertrinity.club/event/evening-bingo-2/2026-05-10/
LOCATION:Dorchester Trinity Club\, 38 Trinity Street\, Dorchester\, Dorset\, DT1 1TT\, United Kingdom
CATEGORIES:Club Events
ATTACH;FMTTYPE=image/jpeg:https://www.dorchestertrinity.club/wp-content/uploads/2025/03/DTC_Events-image_bingo.jpg
END:VEVENT
BEGIN:VEVENT
DTSTART;TZID=Europe/London:20260513T140000
DTEND;TZID=Europe/London:20260513T170000
DTSTAMP:20260419T162509
CREATED:20250319T164812Z
LAST-MODIFIED:20250320T162435Z
UID:10000062-1778680800-1778691600@www.dorchestertrinity.club
SUMMARY:Lunchtime Bingo
DESCRIPTION:Eyes down 2pm
URL:https://www.dorchestertrinity.club/event/lunchtime-bingo/2026-05-13/
LOCATION:Dorchester Trinity Club\, 38 Trinity Street\, Dorchester\, Dorset\, DT1 1TT\, United Kingdom
CATEGORIES:Club Events
ATTACH;FMTTYPE=image/jpeg:https://www.dorchestertrinity.club/wp-content/uploads/2025/03/DTC_Events-image_bingo.jpg
END:VEVENT
BEGIN:VEVENT
DTSTART;TZID=Europe/London:20260515T203000
DTEND;TZID=Europe/London:20260515T223000
DTSTAMP:20260419T162509
CREATED:20250319T165705Z
LAST-MODIFIED:20250331T092805Z
UID:10002826-1778877000-1778884200@www.dorchestertrinity.club
SUMMARY:Chase the Ace
DESCRIPTION:
URL:https://www.dorchestertrinity.club/event/thrift-club-meat-draw/2026-05-15/
LOCATION:Dorchester Trinity Club\, 38 Trinity Street\, Dorchester\, Dorset\, DT1 1TT\, United Kingdom
CATEGORIES:Club Events
ATTACH;FMTTYPE=image/jpeg:https://www.dorchestertrinity.club/wp-content/uploads/2025/03/DTC_Events-image_03-25_chase-the-ace.jpg
END:VEVENT
BEGIN:VEVENT
DTSTART;TZID=Europe/London:20260516T203000
DTEND;TZID=Europe/London:20260516T230000
DTSTAMP:20260419T162509
CREATED:20250407T093428Z
LAST-MODIFIED:20250407T093429Z
UID:10003057-1778963400-1778972400@www.dorchestertrinity.club
SUMMARY:Evening Bingo
DESCRIPTION:Eyes down 8.30pm
URL:https://www.dorchestertrinity.club/event/evening-bingo-3/2026-05-16/
LOCATION:Dorchester Trinity Club\, 38 Trinity Street\, Dorchester\, Dorset\, DT1 1TT\, United Kingdom
CATEGORIES:Club Events
ATTACH;FMTTYPE=image/jpeg:https://www.dorchestertrinity.club/wp-content/uploads/2025/03/DTC_Events-image_bingo.jpg
END:VEVENT
BEGIN:VEVENT
DTSTART;TZID=Europe/London:20260517T203000
DTEND;TZID=Europe/London:20260517T230000
DTSTAMP:20260419T162509
CREATED:20250319T170746Z
LAST-MODIFIED:20250331T092409Z
UID:10002430-1779049800-1779058800@www.dorchestertrinity.club
SUMMARY:Evening Bingo
DESCRIPTION:Eyes down 8.30pm
URL:https://www.dorchestertrinity.club/event/evening-bingo-2/2026-05-17/
LOCATION:Dorchester Trinity Club\, 38 Trinity Street\, Dorchester\, Dorset\, DT1 1TT\, United Kingdom
CATEGORIES:Club Events
ATTACH;FMTTYPE=image/jpeg:https://www.dorchestertrinity.club/wp-content/uploads/2025/03/DTC_Events-image_bingo.jpg
END:VEVENT
BEGIN:VEVENT
DTSTART;TZID=Europe/London:20260520T140000
DTEND;TZID=Europe/London:20260520T170000
DTSTAMP:20260419T162509
CREATED:20250319T164812Z
LAST-MODIFIED:20250320T162435Z
UID:10000063-1779285600-1779296400@www.dorchestertrinity.club
SUMMARY:Lunchtime Bingo
DESCRIPTION:Eyes down 2pm
URL:https://www.dorchestertrinity.club/event/lunchtime-bingo/2026-05-20/
LOCATION:Dorchester Trinity Club\, 38 Trinity Street\, Dorchester\, Dorset\, DT1 1TT\, United Kingdom
CATEGORIES:Club Events
ATTACH;FMTTYPE=image/jpeg:https://www.dorchestertrinity.club/wp-content/uploads/2025/03/DTC_Events-image_bingo.jpg
END:VEVENT
BEGIN:VEVENT
DTSTART;TZID=Europe/London:20260522T203000
DTEND;TZID=Europe/London:20260522T223000
DTSTAMP:20260419T162509
CREATED:20250319T165705Z
LAST-MODIFIED:20250331T092805Z
UID:10002827-1779481800-1779489000@www.dorchestertrinity.club
SUMMARY:Chase the Ace
DESCRIPTION:
URL:https://www.dorchestertrinity.club/event/thrift-club-meat-draw/2026-05-22/
LOCATION:Dorchester Trinity Club\, 38 Trinity Street\, Dorchester\, Dorset\, DT1 1TT\, United Kingdom
CATEGORIES:Club Events
ATTACH;FMTTYPE=image/jpeg:https://www.dorchestertrinity.club/wp-content/uploads/2025/03/DTC_Events-image_03-25_chase-the-ace.jpg
END:VEVENT
BEGIN:VEVENT
DTSTART;TZID=Europe/London:20260524T203000
DTEND;TZID=Europe/London:20260524T230000
DTSTAMP:20260419T162509
CREATED:20250319T170746Z
LAST-MODIFIED:20250331T092409Z
UID:10002431-1779654600-1779663600@www.dorchestertrinity.club
SUMMARY:Evening Bingo
DESCRIPTION:Eyes down 8.30pm
URL:https://www.dorchestertrinity.club/event/evening-bingo-2/2026-05-24/
LOCATION:Dorchester Trinity Club\, 38 Trinity Street\, Dorchester\, Dorset\, DT1 1TT\, United Kingdom
CATEGORIES:Club Events
ATTACH;FMTTYPE=image/jpeg:https://www.dorchestertrinity.club/wp-content/uploads/2025/03/DTC_Events-image_bingo.jpg
END:VEVENT
BEGIN:VEVENT
DTSTART;TZID=Europe/London:20260527T140000
DTEND;TZID=Europe/London:20260527T170000
DTSTAMP:20260419T162509
CREATED:20250319T164812Z
LAST-MODIFIED:20250320T162435Z
UID:10000064-1779890400-1779901200@www.dorchestertrinity.club
SUMMARY:Lunchtime Bingo
DESCRIPTION:Eyes down 2pm
URL:https://www.dorchestertrinity.club/event/lunchtime-bingo/2026-05-27/
LOCATION:Dorchester Trinity Club\, 38 Trinity Street\, Dorchester\, Dorset\, DT1 1TT\, United Kingdom
CATEGORIES:Club Events
ATTACH;FMTTYPE=image/jpeg:https://www.dorchestertrinity.club/wp-content/uploads/2025/03/DTC_Events-image_bingo.jpg
END:VEVENT
BEGIN:VEVENT
DTSTART;TZID=Europe/London:20260529T203000
DTEND;TZID=Europe/London:20260529T223000
DTSTAMP:20260419T162509
CREATED:20250319T165705Z
LAST-MODIFIED:20250331T092805Z
UID:10002828-1780086600-1780093800@www.dorchestertrinity.club
SUMMARY:Chase the Ace
DESCRIPTION:
URL:https://www.dorchestertrinity.club/event/thrift-club-meat-draw/2026-05-29/
LOCATION:Dorchester Trinity Club\, 38 Trinity Street\, Dorchester\, Dorset\, DT1 1TT\, United Kingdom
CATEGORIES:Club Events
ATTACH;FMTTYPE=image/jpeg:https://www.dorchestertrinity.club/wp-content/uploads/2025/03/DTC_Events-image_03-25_chase-the-ace.jpg
END:VEVENT
BEGIN:VEVENT
DTSTART;TZID=Europe/London:20260530T203000
DTEND;TZID=Europe/London:20260530T230000
DTSTAMP:20260419T162509
CREATED:20250407T093428Z
LAST-MODIFIED:20250407T093429Z
UID:10003058-1780173000-1780182000@www.dorchestertrinity.club
SUMMARY:Evening Bingo
DESCRIPTION:Eyes down 8.30pm
URL:https://www.dorchestertrinity.club/event/evening-bingo-3/2026-05-30/
LOCATION:Dorchester Trinity Club\, 38 Trinity Street\, Dorchester\, Dorset\, DT1 1TT\, United Kingdom
CATEGORIES:Club Events
ATTACH;FMTTYPE=image/jpeg:https://www.dorchestertrinity.club/wp-content/uploads/2025/03/DTC_Events-image_bingo.jpg
END:VEVENT
BEGIN:VEVENT
DTSTART;TZID=Europe/London:20260531T203000
DTEND;TZID=Europe/London:20260531T230000
DTSTAMP:20260419T162509
CREATED:20250319T170746Z
LAST-MODIFIED:20250331T092409Z
UID:10002432-1780259400-1780268400@www.dorchestertrinity.club
SUMMARY:Evening Bingo
DESCRIPTION:Eyes down 8.30pm
URL:https://www.dorchestertrinity.club/event/evening-bingo-2/2026-05-31/
LOCATION:Dorchester Trinity Club\, 38 Trinity Street\, Dorchester\, Dorset\, DT1 1TT\, United Kingdom
CATEGORIES:Club Events
ATTACH;FMTTYPE=image/jpeg:https://www.dorchestertrinity.club/wp-content/uploads/2025/03/DTC_Events-image_bingo.jpg
END:VEVENT
BEGIN:VEVENT
DTSTART;TZID=Europe/London:20260603T140000
DTEND;TZID=Europe/London:20260603T170000
DTSTAMP:20260419T162509
CREATED:20250319T164812Z
LAST-MODIFIED:20250320T162435Z
UID:10000065-1780495200-1780506000@www.dorchestertrinity.club
SUMMARY:Lunchtime Bingo
DESCRIPTION:Eyes down 2pm
URL:https://www.dorchestertrinity.club/event/lunchtime-bingo/2026-06-03/
LOCATION:Dorchester Trinity Club\, 38 Trinity Street\, Dorchester\, Dorset\, DT1 1TT\, United Kingdom
CATEGORIES:Club Events
ATTACH;FMTTYPE=image/jpeg:https://www.dorchestertrinity.club/wp-content/uploads/2025/03/DTC_Events-image_bingo.jpg
END:VEVENT
BEGIN:VEVENT
DTSTART;TZID=Europe/London:20260605T203000
DTEND;TZID=Europe/London:20260605T223000
DTSTAMP:20260419T162509
CREATED:20250319T165705Z
LAST-MODIFIED:20250331T092805Z
UID:10002829-1780691400-1780698600@www.dorchestertrinity.club
SUMMARY:Chase the Ace
DESCRIPTION:
URL:https://www.dorchestertrinity.club/event/thrift-club-meat-draw/2026-06-05/
LOCATION:Dorchester Trinity Club\, 38 Trinity Street\, Dorchester\, Dorset\, DT1 1TT\, United Kingdom
CATEGORIES:Club Events
ATTACH;FMTTYPE=image/jpeg:https://www.dorchestertrinity.club/wp-content/uploads/2025/03/DTC_Events-image_03-25_chase-the-ace.jpg
END:VEVENT
BEGIN:VEVENT
DTSTART;TZID=Europe/London:20260607T203000
DTEND;TZID=Europe/London:20260607T230000
DTSTAMP:20260419T162509
CREATED:20250319T170746Z
LAST-MODIFIED:20250331T092409Z
UID:10002433-1780864200-1780873200@www.dorchestertrinity.club
SUMMARY:Evening Bingo
DESCRIPTION:Eyes down 8.30pm
URL:https://www.dorchestertrinity.club/event/evening-bingo-2/2026-06-07/
LOCATION:Dorchester Trinity Club\, 38 Trinity Street\, Dorchester\, Dorset\, DT1 1TT\, United Kingdom
CATEGORIES:Club Events
ATTACH;FMTTYPE=image/jpeg:https://www.dorchestertrinity.club/wp-content/uploads/2025/03/DTC_Events-image_bingo.jpg
END:VEVENT
BEGIN:VEVENT
DTSTART;TZID=Europe/London:20260610T140000
DTEND;TZID=Europe/London:20260610T170000
DTSTAMP:20260419T162509
CREATED:20250319T164812Z
LAST-MODIFIED:20250320T162435Z
UID:10000066-1781100000-1781110800@www.dorchestertrinity.club
SUMMARY:Lunchtime Bingo
DESCRIPTION:Eyes down 2pm
URL:https://www.dorchestertrinity.club/event/lunchtime-bingo/2026-06-10/
LOCATION:Dorchester Trinity Club\, 38 Trinity Street\, Dorchester\, Dorset\, DT1 1TT\, United Kingdom
CATEGORIES:Club Events
ATTACH;FMTTYPE=image/jpeg:https://www.dorchestertrinity.club/wp-content/uploads/2025/03/DTC_Events-image_bingo.jpg
END:VEVENT
BEGIN:VEVENT
DTSTART;TZID=Europe/London:20260612T203000
DTEND;TZID=Europe/London:20260612T223000
DTSTAMP:20260419T162509
CREATED:20250319T165705Z
LAST-MODIFIED:20250331T092805Z
UID:10002830-1781296200-1781303400@www.dorchestertrinity.club
SUMMARY:Chase the Ace
DESCRIPTION:
URL:https://www.dorchestertrinity.club/event/thrift-club-meat-draw/2026-06-12/
LOCATION:Dorchester Trinity Club\, 38 Trinity Street\, Dorchester\, Dorset\, DT1 1TT\, United Kingdom
CATEGORIES:Club Events
ATTACH;FMTTYPE=image/jpeg:https://www.dorchestertrinity.club/wp-content/uploads/2025/03/DTC_Events-image_03-25_chase-the-ace.jpg
END:VEVENT
BEGIN:VEVENT
DTSTART;TZID=Europe/London:20260613T203000
DTEND;TZID=Europe/London:20260613T230000
DTSTAMP:20260419T162509
CREATED:20250407T093428Z
LAST-MODIFIED:20250407T093429Z
UID:10003059-1781382600-1781391600@www.dorchestertrinity.club
SUMMARY:Evening Bingo
DESCRIPTION:Eyes down 8.30pm
URL:https://www.dorchestertrinity.club/event/evening-bingo-3/2026-06-13/
LOCATION:Dorchester Trinity Club\, 38 Trinity Street\, Dorchester\, Dorset\, DT1 1TT\, United Kingdom
CATEGORIES:Club Events
ATTACH;FMTTYPE=image/jpeg:https://www.dorchestertrinity.club/wp-content/uploads/2025/03/DTC_Events-image_bingo.jpg
END:VEVENT
BEGIN:VEVENT
DTSTART;TZID=Europe/London:20260614T203000
DTEND;TZID=Europe/London:20260614T230000
DTSTAMP:20260419T162509
CREATED:20250319T170746Z
LAST-MODIFIED:20250331T092409Z
UID:10002434-1781469000-1781478000@www.dorchestertrinity.club
SUMMARY:Evening Bingo
DESCRIPTION:Eyes down 8.30pm
URL:https://www.dorchestertrinity.club/event/evening-bingo-2/2026-06-14/
LOCATION:Dorchester Trinity Club\, 38 Trinity Street\, Dorchester\, Dorset\, DT1 1TT\, United Kingdom
CATEGORIES:Club Events
ATTACH;FMTTYPE=image/jpeg:https://www.dorchestertrinity.club/wp-content/uploads/2025/03/DTC_Events-image_bingo.jpg
END:VEVENT
BEGIN:VEVENT
DTSTART;TZID=Europe/London:20260617T140000
DTEND;TZID=Europe/London:20260617T170000
DTSTAMP:20260419T162509
CREATED:20250319T164812Z
LAST-MODIFIED:20250320T162435Z
UID:10000067-1781704800-1781715600@www.dorchestertrinity.club
SUMMARY:Lunchtime Bingo
DESCRIPTION:Eyes down 2pm
URL:https://www.dorchestertrinity.club/event/lunchtime-bingo/2026-06-17/
LOCATION:Dorchester Trinity Club\, 38 Trinity Street\, Dorchester\, Dorset\, DT1 1TT\, United Kingdom
CATEGORIES:Club Events
ATTACH;FMTTYPE=image/jpeg:https://www.dorchestertrinity.club/wp-content/uploads/2025/03/DTC_Events-image_bingo.jpg
END:VEVENT
END:VCALENDAR