BEGIN:VCALENDAR
VERSION:2.0
PRODID:-//Dorchester Trinity Club - ECPv6.15.20//NONSGML v1.0//EN
CALSCALE:GREGORIAN
METHOD:PUBLISH
X-ORIGINAL-URL:https://www.dorchestertrinity.club
X-WR-CALDESC:Events for Dorchester Trinity Club
REFRESH-INTERVAL;VALUE=DURATION:PT1H
X-Robots-Tag:noindex
X-PUBLISHED-TTL:PT1H
BEGIN:VTIMEZONE
TZID:Europe/London
BEGIN:DAYLIGHT
TZOFFSETFROM:+0000
TZOFFSETTO:+0100
TZNAME:BST
DTSTART:20250330T010000
END:DAYLIGHT
BEGIN:STANDARD
TZOFFSETFROM:+0100
TZOFFSETTO:+0000
TZNAME:GMT
DTSTART:20251026T010000
END:STANDARD
BEGIN:DAYLIGHT
TZOFFSETFROM:+0000
TZOFFSETTO:+0100
TZNAME:BST
DTSTART:20260329T010000
END:DAYLIGHT
BEGIN:STANDARD
TZOFFSETFROM:+0100
TZOFFSETTO:+0000
TZNAME:GMT
DTSTART:20261025T010000
END:STANDARD
BEGIN:DAYLIGHT
TZOFFSETFROM:+0000
TZOFFSETTO:+0100
TZNAME:BST
DTSTART:20270328T010000
END:DAYLIGHT
BEGIN:STANDARD
TZOFFSETFROM:+0100
TZOFFSETTO:+0000
TZNAME:GMT
DTSTART:20271031T010000
END:STANDARD
END:VTIMEZONE
BEGIN:VEVENT
DTSTART;TZID=Europe/London:20260412T203000
DTEND;TZID=Europe/London:20260412T230000
DTSTAMP:20260414T103843
CREATED:20250319T170746Z
LAST-MODIFIED:20250331T092409Z
UID:10002425-1776025800-1776034800@www.dorchestertrinity.club
SUMMARY:Evening Bingo
DESCRIPTION:Eyes down 8.30pm
URL:https://www.dorchestertrinity.club/event/evening-bingo-2/2026-04-12/
LOCATION:Dorchester Trinity Club\, 38 Trinity Street\, Dorchester\, Dorset\, DT1 1TT\, United Kingdom
CATEGORIES:Club Events
ATTACH;FMTTYPE=image/jpeg:https://www.dorchestertrinity.club/wp-content/uploads/2025/03/DTC_Events-image_bingo.jpg
END:VEVENT
BEGIN:VEVENT
DTSTART;TZID=Europe/London:20260410T203000
DTEND;TZID=Europe/London:20260410T223000
DTSTAMP:20260414T103843
CREATED:20250319T165705Z
LAST-MODIFIED:20250331T092805Z
UID:10002821-1775853000-1775860200@www.dorchestertrinity.club
SUMMARY:Chase the Ace
DESCRIPTION:
URL:https://www.dorchestertrinity.club/event/thrift-club-meat-draw/2026-04-10/
LOCATION:Dorchester Trinity Club\, 38 Trinity Street\, Dorchester\, Dorset\, DT1 1TT\, United Kingdom
CATEGORIES:Club Events
ATTACH;FMTTYPE=image/jpeg:https://www.dorchestertrinity.club/wp-content/uploads/2025/03/DTC_Events-image_03-25_chase-the-ace.jpg
END:VEVENT
BEGIN:VEVENT
DTSTART;TZID=Europe/London:20260408T140000
DTEND;TZID=Europe/London:20260408T170000
DTSTAMP:20260414T103843
CREATED:20250319T164812Z
LAST-MODIFIED:20250320T162435Z
UID:10000057-1775656800-1775667600@www.dorchestertrinity.club
SUMMARY:Lunchtime Bingo
DESCRIPTION:Eyes down 2pm
URL:https://www.dorchestertrinity.club/event/lunchtime-bingo/2026-04-08/
LOCATION:Dorchester Trinity Club\, 38 Trinity Street\, Dorchester\, Dorset\, DT1 1TT\, United Kingdom
CATEGORIES:Club Events
ATTACH;FMTTYPE=image/jpeg:https://www.dorchestertrinity.club/wp-content/uploads/2025/03/DTC_Events-image_bingo.jpg
END:VEVENT
BEGIN:VEVENT
DTSTART;TZID=Europe/London:20260405T203000
DTEND;TZID=Europe/London:20260405T230000
DTSTAMP:20260414T103843
CREATED:20250319T170746Z
LAST-MODIFIED:20250331T092409Z
UID:10002424-1775421000-1775430000@www.dorchestertrinity.club
SUMMARY:Evening Bingo
DESCRIPTION:Eyes down 8.30pm
URL:https://www.dorchestertrinity.club/event/evening-bingo-2/2026-04-05/
LOCATION:Dorchester Trinity Club\, 38 Trinity Street\, Dorchester\, Dorset\, DT1 1TT\, United Kingdom
CATEGORIES:Club Events
ATTACH;FMTTYPE=image/jpeg:https://www.dorchestertrinity.club/wp-content/uploads/2025/03/DTC_Events-image_bingo.jpg
END:VEVENT
BEGIN:VEVENT
DTSTART;TZID=Europe/London:20260404T203000
DTEND;TZID=Europe/London:20260404T230000
DTSTAMP:20260414T103843
CREATED:20250407T093428Z
LAST-MODIFIED:20250407T093429Z
UID:10003054-1775334600-1775343600@www.dorchestertrinity.club
SUMMARY:Evening Bingo
DESCRIPTION:Eyes down 8.30pm
URL:https://www.dorchestertrinity.club/event/evening-bingo-3/2026-04-04/
LOCATION:Dorchester Trinity Club\, 38 Trinity Street\, Dorchester\, Dorset\, DT1 1TT\, United Kingdom
CATEGORIES:Club Events
ATTACH;FMTTYPE=image/jpeg:https://www.dorchestertrinity.club/wp-content/uploads/2025/03/DTC_Events-image_bingo.jpg
END:VEVENT
BEGIN:VEVENT
DTSTART;TZID=Europe/London:20260403T203000
DTEND;TZID=Europe/London:20260403T223000
DTSTAMP:20260414T103843
CREATED:20250319T165705Z
LAST-MODIFIED:20250331T092805Z
UID:10002820-1775248200-1775255400@www.dorchestertrinity.club
SUMMARY:Chase the Ace
DESCRIPTION:
URL:https://www.dorchestertrinity.club/event/thrift-club-meat-draw/2026-04-03/
LOCATION:Dorchester Trinity Club\, 38 Trinity Street\, Dorchester\, Dorset\, DT1 1TT\, United Kingdom
CATEGORIES:Club Events
ATTACH;FMTTYPE=image/jpeg:https://www.dorchestertrinity.club/wp-content/uploads/2025/03/DTC_Events-image_03-25_chase-the-ace.jpg
END:VEVENT
BEGIN:VEVENT
DTSTART;TZID=Europe/London:20260401T140000
DTEND;TZID=Europe/London:20260401T170000
DTSTAMP:20260414T103843
CREATED:20250319T164812Z
LAST-MODIFIED:20250320T162435Z
UID:10000056-1775052000-1775062800@www.dorchestertrinity.club
SUMMARY:Lunchtime Bingo
DESCRIPTION:Eyes down 2pm
URL:https://www.dorchestertrinity.club/event/lunchtime-bingo/2026-04-01/
LOCATION:Dorchester Trinity Club\, 38 Trinity Street\, Dorchester\, Dorset\, DT1 1TT\, United Kingdom
CATEGORIES:Club Events
ATTACH;FMTTYPE=image/jpeg:https://www.dorchestertrinity.club/wp-content/uploads/2025/03/DTC_Events-image_bingo.jpg
END:VEVENT
BEGIN:VEVENT
DTSTART;TZID=Europe/London:20260329T203000
DTEND;TZID=Europe/London:20260329T230000
DTSTAMP:20260414T103843
CREATED:20250319T170746Z
LAST-MODIFIED:20250331T092409Z
UID:10002423-1774816200-1774825200@www.dorchestertrinity.club
SUMMARY:Evening Bingo
DESCRIPTION:Eyes down 8.30pm
URL:https://www.dorchestertrinity.club/event/evening-bingo-2/2026-03-29/
LOCATION:Dorchester Trinity Club\, 38 Trinity Street\, Dorchester\, Dorset\, DT1 1TT\, United Kingdom
CATEGORIES:Club Events
ATTACH;FMTTYPE=image/jpeg:https://www.dorchestertrinity.club/wp-content/uploads/2025/03/DTC_Events-image_bingo.jpg
END:VEVENT
BEGIN:VEVENT
DTSTART;TZID=Europe/London:20260327T203000
DTEND;TZID=Europe/London:20260327T223000
DTSTAMP:20260414T103843
CREATED:20250319T165705Z
LAST-MODIFIED:20250331T092805Z
UID:10002819-1774643400-1774650600@www.dorchestertrinity.club
SUMMARY:Chase the Ace
DESCRIPTION:
URL:https://www.dorchestertrinity.club/event/thrift-club-meat-draw/2026-03-27/
LOCATION:Dorchester Trinity Club\, 38 Trinity Street\, Dorchester\, Dorset\, DT1 1TT\, United Kingdom
CATEGORIES:Club Events
ATTACH;FMTTYPE=image/jpeg:https://www.dorchestertrinity.club/wp-content/uploads/2025/03/DTC_Events-image_03-25_chase-the-ace.jpg
END:VEVENT
BEGIN:VEVENT
DTSTART;TZID=Europe/London:20260325T140000
DTEND;TZID=Europe/London:20260325T170000
DTSTAMP:20260414T103843
CREATED:20250319T164812Z
LAST-MODIFIED:20250320T162435Z
UID:10000055-1774447200-1774458000@www.dorchestertrinity.club
SUMMARY:Lunchtime Bingo
DESCRIPTION:Eyes down 2pm
URL:https://www.dorchestertrinity.club/event/lunchtime-bingo/2026-03-25/
LOCATION:Dorchester Trinity Club\, 38 Trinity Street\, Dorchester\, Dorset\, DT1 1TT\, United Kingdom
CATEGORIES:Club Events
ATTACH;FMTTYPE=image/jpeg:https://www.dorchestertrinity.club/wp-content/uploads/2025/03/DTC_Events-image_bingo.jpg
END:VEVENT
BEGIN:VEVENT
DTSTART;TZID=Europe/London:20260322T203000
DTEND;TZID=Europe/London:20260322T230000
DTSTAMP:20260414T103843
CREATED:20250319T170746Z
LAST-MODIFIED:20250331T092409Z
UID:10002422-1774211400-1774220400@www.dorchestertrinity.club
SUMMARY:Evening Bingo
DESCRIPTION:Eyes down 8.30pm
URL:https://www.dorchestertrinity.club/event/evening-bingo-2/2026-03-22/
LOCATION:Dorchester Trinity Club\, 38 Trinity Street\, Dorchester\, Dorset\, DT1 1TT\, United Kingdom
CATEGORIES:Club Events
ATTACH;FMTTYPE=image/jpeg:https://www.dorchestertrinity.club/wp-content/uploads/2025/03/DTC_Events-image_bingo.jpg
END:VEVENT
BEGIN:VEVENT
DTSTART;TZID=Europe/London:20260321T203000
DTEND;TZID=Europe/London:20260321T230000
DTSTAMP:20260414T103843
CREATED:20250407T093428Z
LAST-MODIFIED:20250407T093429Z
UID:10003053-1774125000-1774134000@www.dorchestertrinity.club
SUMMARY:Evening Bingo
DESCRIPTION:Eyes down 8.30pm
URL:https://www.dorchestertrinity.club/event/evening-bingo-3/2026-03-21/
LOCATION:Dorchester Trinity Club\, 38 Trinity Street\, Dorchester\, Dorset\, DT1 1TT\, United Kingdom
CATEGORIES:Club Events
ATTACH;FMTTYPE=image/jpeg:https://www.dorchestertrinity.club/wp-content/uploads/2025/03/DTC_Events-image_bingo.jpg
END:VEVENT
BEGIN:VEVENT
DTSTART;TZID=Europe/London:20260320T203000
DTEND;TZID=Europe/London:20260320T223000
DTSTAMP:20260414T103843
CREATED:20250319T165705Z
LAST-MODIFIED:20250331T092805Z
UID:10002818-1774038600-1774045800@www.dorchestertrinity.club
SUMMARY:Chase the Ace
DESCRIPTION:
URL:https://www.dorchestertrinity.club/event/thrift-club-meat-draw/2026-03-20/
LOCATION:Dorchester Trinity Club\, 38 Trinity Street\, Dorchester\, Dorset\, DT1 1TT\, United Kingdom
CATEGORIES:Club Events
ATTACH;FMTTYPE=image/jpeg:https://www.dorchestertrinity.club/wp-content/uploads/2025/03/DTC_Events-image_03-25_chase-the-ace.jpg
END:VEVENT
BEGIN:VEVENT
DTSTART;TZID=Europe/London:20260318T140000
DTEND;TZID=Europe/London:20260318T170000
DTSTAMP:20260414T103843
CREATED:20250319T164812Z
LAST-MODIFIED:20250320T162435Z
UID:10000054-1773842400-1773853200@www.dorchestertrinity.club
SUMMARY:Lunchtime Bingo
DESCRIPTION:Eyes down 2pm
URL:https://www.dorchestertrinity.club/event/lunchtime-bingo/2026-03-18/
LOCATION:Dorchester Trinity Club\, 38 Trinity Street\, Dorchester\, Dorset\, DT1 1TT\, United Kingdom
CATEGORIES:Club Events
ATTACH;FMTTYPE=image/jpeg:https://www.dorchestertrinity.club/wp-content/uploads/2025/03/DTC_Events-image_bingo.jpg
END:VEVENT
BEGIN:VEVENT
DTSTART;TZID=Europe/London:20260315T203000
DTEND;TZID=Europe/London:20260315T230000
DTSTAMP:20260414T103843
CREATED:20250319T170746Z
LAST-MODIFIED:20250331T092409Z
UID:10002421-1773606600-1773615600@www.dorchestertrinity.club
SUMMARY:Evening Bingo
DESCRIPTION:Eyes down 8.30pm
URL:https://www.dorchestertrinity.club/event/evening-bingo-2/2026-03-15/
LOCATION:Dorchester Trinity Club\, 38 Trinity Street\, Dorchester\, Dorset\, DT1 1TT\, United Kingdom
CATEGORIES:Club Events
ATTACH;FMTTYPE=image/jpeg:https://www.dorchestertrinity.club/wp-content/uploads/2025/03/DTC_Events-image_bingo.jpg
END:VEVENT
BEGIN:VEVENT
DTSTART;TZID=Europe/London:20260313T203000
DTEND;TZID=Europe/London:20260313T223000
DTSTAMP:20260414T103843
CREATED:20250319T165705Z
LAST-MODIFIED:20250331T092805Z
UID:10002817-1773433800-1773441000@www.dorchestertrinity.club
SUMMARY:Chase the Ace
DESCRIPTION:
URL:https://www.dorchestertrinity.club/event/thrift-club-meat-draw/2026-03-13/
LOCATION:Dorchester Trinity Club\, 38 Trinity Street\, Dorchester\, Dorset\, DT1 1TT\, United Kingdom
CATEGORIES:Club Events
ATTACH;FMTTYPE=image/jpeg:https://www.dorchestertrinity.club/wp-content/uploads/2025/03/DTC_Events-image_03-25_chase-the-ace.jpg
END:VEVENT
BEGIN:VEVENT
DTSTART;TZID=Europe/London:20260311T140000
DTEND;TZID=Europe/London:20260311T170000
DTSTAMP:20260414T103843
CREATED:20250319T164812Z
LAST-MODIFIED:20250320T162435Z
UID:10000053-1773237600-1773248400@www.dorchestertrinity.club
SUMMARY:Lunchtime Bingo
DESCRIPTION:Eyes down 2pm
URL:https://www.dorchestertrinity.club/event/lunchtime-bingo/2026-03-11/
LOCATION:Dorchester Trinity Club\, 38 Trinity Street\, Dorchester\, Dorset\, DT1 1TT\, United Kingdom
CATEGORIES:Club Events
ATTACH;FMTTYPE=image/jpeg:https://www.dorchestertrinity.club/wp-content/uploads/2025/03/DTC_Events-image_bingo.jpg
END:VEVENT
BEGIN:VEVENT
DTSTART;TZID=Europe/London:20260308T203000
DTEND;TZID=Europe/London:20260308T230000
DTSTAMP:20260414T103843
CREATED:20250319T170746Z
LAST-MODIFIED:20250331T092409Z
UID:10002420-1773001800-1773010800@www.dorchestertrinity.club
SUMMARY:Evening Bingo
DESCRIPTION:Eyes down 8.30pm
URL:https://www.dorchestertrinity.club/event/evening-bingo-2/2026-03-08/
LOCATION:Dorchester Trinity Club\, 38 Trinity Street\, Dorchester\, Dorset\, DT1 1TT\, United Kingdom
CATEGORIES:Club Events
ATTACH;FMTTYPE=image/jpeg:https://www.dorchestertrinity.club/wp-content/uploads/2025/03/DTC_Events-image_bingo.jpg
END:VEVENT
BEGIN:VEVENT
DTSTART;TZID=Europe/London:20260307T203000
DTEND;TZID=Europe/London:20260307T230000
DTSTAMP:20260414T103843
CREATED:20250407T093428Z
LAST-MODIFIED:20250407T093429Z
UID:10003052-1772915400-1772924400@www.dorchestertrinity.club
SUMMARY:Evening Bingo
DESCRIPTION:Eyes down 8.30pm
URL:https://www.dorchestertrinity.club/event/evening-bingo-3/2026-03-07/
LOCATION:Dorchester Trinity Club\, 38 Trinity Street\, Dorchester\, Dorset\, DT1 1TT\, United Kingdom
CATEGORIES:Club Events
ATTACH;FMTTYPE=image/jpeg:https://www.dorchestertrinity.club/wp-content/uploads/2025/03/DTC_Events-image_bingo.jpg
END:VEVENT
BEGIN:VEVENT
DTSTART;TZID=Europe/London:20260306T203000
DTEND;TZID=Europe/London:20260306T223000
DTSTAMP:20260414T103843
CREATED:20250319T165705Z
LAST-MODIFIED:20250331T092805Z
UID:10002816-1772829000-1772836200@www.dorchestertrinity.club
SUMMARY:Chase the Ace
DESCRIPTION:
URL:https://www.dorchestertrinity.club/event/thrift-club-meat-draw/2026-03-06/
LOCATION:Dorchester Trinity Club\, 38 Trinity Street\, Dorchester\, Dorset\, DT1 1TT\, United Kingdom
CATEGORIES:Club Events
ATTACH;FMTTYPE=image/jpeg:https://www.dorchestertrinity.club/wp-content/uploads/2025/03/DTC_Events-image_03-25_chase-the-ace.jpg
END:VEVENT
BEGIN:VEVENT
DTSTART;TZID=Europe/London:20260304T140000
DTEND;TZID=Europe/London:20260304T170000
DTSTAMP:20260414T103843
CREATED:20250319T164812Z
LAST-MODIFIED:20250320T162435Z
UID:10000052-1772632800-1772643600@www.dorchestertrinity.club
SUMMARY:Lunchtime Bingo
DESCRIPTION:Eyes down 2pm
URL:https://www.dorchestertrinity.club/event/lunchtime-bingo/2026-03-04/
LOCATION:Dorchester Trinity Club\, 38 Trinity Street\, Dorchester\, Dorset\, DT1 1TT\, United Kingdom
CATEGORIES:Club Events
ATTACH;FMTTYPE=image/jpeg:https://www.dorchestertrinity.club/wp-content/uploads/2025/03/DTC_Events-image_bingo.jpg
END:VEVENT
BEGIN:VEVENT
DTSTART;TZID=Europe/London:20260301T203000
DTEND;TZID=Europe/London:20260301T230000
DTSTAMP:20260414T103843
CREATED:20250319T170746Z
LAST-MODIFIED:20250331T092409Z
UID:10002419-1772397000-1772406000@www.dorchestertrinity.club
SUMMARY:Evening Bingo
DESCRIPTION:Eyes down 8.30pm
URL:https://www.dorchestertrinity.club/event/evening-bingo-2/2026-03-01/
LOCATION:Dorchester Trinity Club\, 38 Trinity Street\, Dorchester\, Dorset\, DT1 1TT\, United Kingdom
CATEGORIES:Club Events
ATTACH;FMTTYPE=image/jpeg:https://www.dorchestertrinity.club/wp-content/uploads/2025/03/DTC_Events-image_bingo.jpg
END:VEVENT
BEGIN:VEVENT
DTSTART;TZID=Europe/London:20260227T203000
DTEND;TZID=Europe/London:20260227T223000
DTSTAMP:20260414T103843
CREATED:20250319T165705Z
LAST-MODIFIED:20250331T092805Z
UID:10002815-1772224200-1772231400@www.dorchestertrinity.club
SUMMARY:Chase the Ace
DESCRIPTION:
URL:https://www.dorchestertrinity.club/event/thrift-club-meat-draw/2026-02-27/
LOCATION:Dorchester Trinity Club\, 38 Trinity Street\, Dorchester\, Dorset\, DT1 1TT\, United Kingdom
CATEGORIES:Club Events
ATTACH;FMTTYPE=image/jpeg:https://www.dorchestertrinity.club/wp-content/uploads/2025/03/DTC_Events-image_03-25_chase-the-ace.jpg
END:VEVENT
BEGIN:VEVENT
DTSTART;TZID=Europe/London:20260225T140000
DTEND;TZID=Europe/London:20260225T170000
DTSTAMP:20260414T103843
CREATED:20250319T164812Z
LAST-MODIFIED:20250320T162435Z
UID:10000051-1772028000-1772038800@www.dorchestertrinity.club
SUMMARY:Lunchtime Bingo
DESCRIPTION:Eyes down 2pm
URL:https://www.dorchestertrinity.club/event/lunchtime-bingo/2026-02-25/
LOCATION:Dorchester Trinity Club\, 38 Trinity Street\, Dorchester\, Dorset\, DT1 1TT\, United Kingdom
CATEGORIES:Club Events
ATTACH;FMTTYPE=image/jpeg:https://www.dorchestertrinity.club/wp-content/uploads/2025/03/DTC_Events-image_bingo.jpg
END:VEVENT
BEGIN:VEVENT
DTSTART;TZID=Europe/London:20260222T203000
DTEND;TZID=Europe/London:20260222T230000
DTSTAMP:20260414T103843
CREATED:20250319T170746Z
LAST-MODIFIED:20250331T092409Z
UID:10002418-1771792200-1771801200@www.dorchestertrinity.club
SUMMARY:Evening Bingo
DESCRIPTION:Eyes down 8.30pm
URL:https://www.dorchestertrinity.club/event/evening-bingo-2/2026-02-22/
LOCATION:Dorchester Trinity Club\, 38 Trinity Street\, Dorchester\, Dorset\, DT1 1TT\, United Kingdom
CATEGORIES:Club Events
ATTACH;FMTTYPE=image/jpeg:https://www.dorchestertrinity.club/wp-content/uploads/2025/03/DTC_Events-image_bingo.jpg
END:VEVENT
BEGIN:VEVENT
DTSTART;TZID=Europe/London:20260221T203000
DTEND;TZID=Europe/London:20260221T230000
DTSTAMP:20260414T103843
CREATED:20250407T093428Z
LAST-MODIFIED:20250407T093429Z
UID:10003051-1771705800-1771714800@www.dorchestertrinity.club
SUMMARY:Evening Bingo
DESCRIPTION:Eyes down 8.30pm
URL:https://www.dorchestertrinity.club/event/evening-bingo-3/2026-02-21/
LOCATION:Dorchester Trinity Club\, 38 Trinity Street\, Dorchester\, Dorset\, DT1 1TT\, United Kingdom
CATEGORIES:Club Events
ATTACH;FMTTYPE=image/jpeg:https://www.dorchestertrinity.club/wp-content/uploads/2025/03/DTC_Events-image_bingo.jpg
END:VEVENT
BEGIN:VEVENT
DTSTART;TZID=Europe/London:20260220T203000
DTEND;TZID=Europe/London:20260220T223000
DTSTAMP:20260414T103843
CREATED:20250319T165705Z
LAST-MODIFIED:20250331T092805Z
UID:10002814-1771619400-1771626600@www.dorchestertrinity.club
SUMMARY:Chase the Ace
DESCRIPTION:
URL:https://www.dorchestertrinity.club/event/thrift-club-meat-draw/2026-02-20/
LOCATION:Dorchester Trinity Club\, 38 Trinity Street\, Dorchester\, Dorset\, DT1 1TT\, United Kingdom
CATEGORIES:Club Events
ATTACH;FMTTYPE=image/jpeg:https://www.dorchestertrinity.club/wp-content/uploads/2025/03/DTC_Events-image_03-25_chase-the-ace.jpg
END:VEVENT
BEGIN:VEVENT
DTSTART;TZID=Europe/London:20260218T140000
DTEND;TZID=Europe/London:20260218T170000
DTSTAMP:20260414T103843
CREATED:20250319T164812Z
LAST-MODIFIED:20250320T162435Z
UID:10000050-1771423200-1771434000@www.dorchestertrinity.club
SUMMARY:Lunchtime Bingo
DESCRIPTION:Eyes down 2pm
URL:https://www.dorchestertrinity.club/event/lunchtime-bingo/2026-02-18/
LOCATION:Dorchester Trinity Club\, 38 Trinity Street\, Dorchester\, Dorset\, DT1 1TT\, United Kingdom
CATEGORIES:Club Events
ATTACH;FMTTYPE=image/jpeg:https://www.dorchestertrinity.club/wp-content/uploads/2025/03/DTC_Events-image_bingo.jpg
END:VEVENT
BEGIN:VEVENT
DTSTART;TZID=Europe/London:20260215T203000
DTEND;TZID=Europe/London:20260215T230000
DTSTAMP:20260414T103843
CREATED:20250319T170746Z
LAST-MODIFIED:20250331T092409Z
UID:10002417-1771187400-1771196400@www.dorchestertrinity.club
SUMMARY:Evening Bingo
DESCRIPTION:Eyes down 8.30pm
URL:https://www.dorchestertrinity.club/event/evening-bingo-2/2026-02-15/
LOCATION:Dorchester Trinity Club\, 38 Trinity Street\, Dorchester\, Dorset\, DT1 1TT\, United Kingdom
CATEGORIES:Club Events
ATTACH;FMTTYPE=image/jpeg:https://www.dorchestertrinity.club/wp-content/uploads/2025/03/DTC_Events-image_bingo.jpg
END:VEVENT
BEGIN:VEVENT
DTSTART;TZID=Europe/London:20260213T203000
DTEND;TZID=Europe/London:20260213T223000
DTSTAMP:20260414T103843
CREATED:20250319T165705Z
LAST-MODIFIED:20250331T092805Z
UID:10002813-1771014600-1771021800@www.dorchestertrinity.club
SUMMARY:Chase the Ace
DESCRIPTION:
URL:https://www.dorchestertrinity.club/event/thrift-club-meat-draw/2026-02-13/
LOCATION:Dorchester Trinity Club\, 38 Trinity Street\, Dorchester\, Dorset\, DT1 1TT\, United Kingdom
CATEGORIES:Club Events
ATTACH;FMTTYPE=image/jpeg:https://www.dorchestertrinity.club/wp-content/uploads/2025/03/DTC_Events-image_03-25_chase-the-ace.jpg
END:VEVENT
END:VCALENDAR