BEGIN:VCALENDAR
VERSION:2.0
PRODID:-//Dorchester Trinity Club - ECPv6.15.20//NONSGML v1.0//EN
CALSCALE:GREGORIAN
METHOD:PUBLISH
X-WR-CALNAME:Dorchester Trinity Club
X-ORIGINAL-URL:https://www.dorchestertrinity.club
X-WR-CALDESC:Events for Dorchester Trinity Club
REFRESH-INTERVAL;VALUE=DURATION:PT1H
X-Robots-Tag:noindex
X-PUBLISHED-TTL:PT1H
BEGIN:VTIMEZONE
TZID:Europe/London
BEGIN:DAYLIGHT
TZOFFSETFROM:+0000
TZOFFSETTO:+0100
TZNAME:BST
DTSTART:20240331T010000
END:DAYLIGHT
BEGIN:STANDARD
TZOFFSETFROM:+0100
TZOFFSETTO:+0000
TZNAME:GMT
DTSTART:20241027T010000
END:STANDARD
BEGIN:DAYLIGHT
TZOFFSETFROM:+0000
TZOFFSETTO:+0100
TZNAME:BST
DTSTART:20250330T010000
END:DAYLIGHT
BEGIN:STANDARD
TZOFFSETFROM:+0100
TZOFFSETTO:+0000
TZNAME:GMT
DTSTART:20251026T010000
END:STANDARD
BEGIN:DAYLIGHT
TZOFFSETFROM:+0000
TZOFFSETTO:+0100
TZNAME:BST
DTSTART:20260329T010000
END:DAYLIGHT
BEGIN:STANDARD
TZOFFSETFROM:+0100
TZOFFSETTO:+0000
TZNAME:GMT
DTSTART:20261025T010000
END:STANDARD
END:VTIMEZONE
BEGIN:VEVENT
DTSTART;TZID=Europe/London:20251129T203000
DTEND;TZID=Europe/London:20251129T230000
DTSTAMP:20260420T045410
CREATED:20250407T093428Z
LAST-MODIFIED:20250407T093429Z
UID:10003045-1764448200-1764457200@www.dorchestertrinity.club
SUMMARY:Evening Bingo
DESCRIPTION:Eyes down 8.30pm
URL:https://www.dorchestertrinity.club/event/evening-bingo-3/2025-11-29/
LOCATION:Dorchester Trinity Club\, 38 Trinity Street\, Dorchester\, Dorset\, DT1 1TT\, United Kingdom
CATEGORIES:Club Events
ATTACH;FMTTYPE=image/jpeg:https://www.dorchestertrinity.club/wp-content/uploads/2025/03/DTC_Events-image_bingo.jpg
END:VEVENT
END:VCALENDAR